BEGIN:VCALENDAR
VERSION:2.0
PRODID:-//wp-events-plugin.com//7.2.3.1//EN
TZID:Europe/Paris
X-WR-TIMEZONE:Europe/Paris
BEGIN:VEVENT
UID:3935@bananierbleu.fr
DTSTART;TZID=Europe/Paris:20250509T213000
DTEND;TZID=Europe/Paris:20250509T213000
DTSTAMP:20250407T094456Z
URL:https://bananierbleu.fr/concerts-test/mario-canonge-michel-zenino-quin
 tup-33/
SUMMARY:Mario Canonge/Michel Zenino Quint'up - le Baiser Salé - 9 Mai 25 2
 1:30
DESCRIPTION:Personnel : Arnaud Dolmen (batterie)\, Géraldine Laurent (saxo
 phone)\, Josiah Woodson (trompette)\, Mario Canonge (piano)\, Michel Zenin
 o (contrebasse)\n\nLe quintet Quint'up\, dirigé par Mario Canonge et Mich
 el Zenino\, fusionne jazz\, rythmes caribéens et hard bop.
ATTACH;FMTTYPE=image/jpeg:https://bananierbleu.fr/wp-content/uploads/2025/
 01/QuintUp.jpg
CATEGORIES:Concerts en France
LOCATION:le Baiser Salé\, 58\, rue des Lombards\, Paris\, Île de France\,
  75001\, IleDeFrance\, France
GEO:48.8598;2.34791
X-APPLE-STRUCTURED-LOCATION;VALUE=URI;X-ADDRESS=58\, rue des Lombards\, Par
 is\, Île de France\, 75001\, IleDeFrance\, France;X-APPLE-RADIUS=100;X-TI
 TLE=le Baiser Salé:geo:48.8598,2.34791
END:VEVENT
BEGIN:VTIMEZONE
TZID:Europe/Paris
X-LIC-LOCATION:Europe/Paris
BEGIN:DAYLIGHT
DTSTART:20250330T030000
TZOFFSETFROM:+0100
TZOFFSETTO:+0200
TZNAME:CEST
END:DAYLIGHT
END:VTIMEZONE
END:VCALENDAR