BEGIN:VCALENDAR
VERSION:2.0
PRODID:-//wp-events-plugin.com//7.2.3.1//EN
TZID:Europe/Paris
X-WR-TIMEZONE:Europe/Paris
BEGIN:VEVENT
UID:2412@bananierbleu.fr
DTSTART;TZID=Europe/Paris:20171020T213000
DTEND;TZID=Europe/Paris:20171020T213000
DTSTAMP:20171015T104524Z
URL:https://bananierbleu.fr/concerts-test/mario-canonge-michel-zenino-quin
 tup/
SUMMARY:Mario Canonge & Michel Zenino Quint'Up - le Baiser Salé - 20 Oct 1
 7 21:30
DESCRIPTION:Au fil des thèmes\, les qualités des musiciens se révèlent 
 : formidable pulsation du batteur\, beau dialogue\, solide assise\, et bel
 les improvisations de la contrebasse\, et festival pianistique : Mario Can
 onge soutient\, conforte et relance\, et quand vient son tour de prendre l
 e solo\, il se lance à corps perdu\, manifestement stimulé par l’excep
 tionnelle qualité de ses partenaires et l’effervescence qui règne\, su
 r la scène comme dans la salle. Il prend des risques\, varie les phrases 
 sans lâcher le fil rythmique ou harmonique. Il jubile. Michel Zenino est 
 aux anges : leur groupe est une absolue réussite." (Xavier Prevost). L’
 occasion également de découvrir le tout dernier album de Mario Canonge e
 t Michel Zenino en Quintet&nbsp\;!
ATTACH;FMTTYPE=image/jpeg:https://bananierbleu.fr/wp-content/uploads/2017/
 10/860n.jpeg
CATEGORIES:Concerts en France
LOCATION:le Baiser Salé\, 58\, rue des Lombards\, Paris\, Île de France\,
  75001\, IleDeFrance\, France
GEO:48.8598;2.34791
X-APPLE-STRUCTURED-LOCATION;VALUE=URI;X-ADDRESS=58\, rue des Lombards\, Par
 is\, Île de France\, 75001\, IleDeFrance\, France;X-APPLE-RADIUS=100;X-TI
 TLE=le Baiser Salé:geo:48.8598,2.34791
END:VEVENT
BEGIN:VTIMEZONE
TZID:Europe/Paris
X-LIC-LOCATION:Europe/Paris
BEGIN:DAYLIGHT
DTSTART:20170326T030000
TZOFFSETFROM:+0100
TZOFFSETTO:+0200
TZNAME:CEST
END:DAYLIGHT
END:VTIMEZONE
END:VCALENDAR