BEGIN:VCALENDAR
VERSION:2.0
PRODID:-//wp-events-plugin.com//7.2.3.1//EN
TZID:Europe/Paris
X-WR-TIMEZONE:Europe/Paris
BEGIN:VEVENT
UID:258@bananierbleu.fr
DTSTART;TZID=Europe/Paris:20120921T203000
DTEND;TZID=Europe/Paris:20120921T203000
DTSTAMP:20120625T152653Z
URL:https://bananierbleu.fr/concerts-test/mario-canonge-mitan-trio-3/
SUMMARY:Mario Canonge "Mitan" trio - Salle Pablo Picasso - 21 Sep 12 20:30
DESCRIPTION:
CATEGORIES:Concerts en France
LOCATION:Salle Pablo Picasso\, 60\, allée de la Garenne\, La Norville\, 91
 290\, France
GEO:48.5854327;2.262580699999944
X-APPLE-STRUCTURED-LOCATION;VALUE=URI;X-ADDRESS=60\, allée de la Garenne\,
  La Norville\, 91290\, France;X-APPLE-RADIUS=100;X-TITLE=Salle Pablo Picas
 so:geo:48.5854327,2.262580699999944
END:VEVENT
BEGIN:VTIMEZONE
TZID:Europe/Paris
X-LIC-LOCATION:Europe/Paris
BEGIN:DAYLIGHT
DTSTART:20120325T030000
TZOFFSETFROM:+0100
TZOFFSETTO:+0200
TZNAME:CEST
END:DAYLIGHT
END:VTIMEZONE
END:VCALENDAR