BEGIN:VCALENDAR
VERSION:2.0
PRODID:-//wp-events-plugin.com//7.2.3.1//EN
TZID:Europe/Paris
X-WR-TIMEZONE:Europe/Paris
BEGIN:VEVENT
UID:260@bananierbleu.fr
DTSTART;TZID=Europe/Paris:20121201T203000
DTEND;TZID=Europe/Paris:20121201T223000
DTSTAMP:20120625T154611Z
URL:https://bananierbleu.fr/concerts-test/mario-canonge-mitan-trio-4/
SUMMARY:Mario Canonge 'Mitan' trio - Espace Rive Gauche - 1 Déc 12 20:30
DESCRIPTION:Trio Mitan - Dans le cadre du Festival "Jazz au fil de l'Oise"
CATEGORIES:Concerts en France
LOCATION:Espace Rive Gauche\, Rue des Petits Prés\, Mériel\, 95630\, Fran
 ce
GEO:49.077124;2.2054920000000493
X-APPLE-STRUCTURED-LOCATION;VALUE=URI;X-ADDRESS=Rue des Petits Prés\, Mér
 iel\, 95630\, France;X-APPLE-RADIUS=100;X-TITLE=Espace Rive Gauche:geo:49.
 077124,2.2054920000000493
END:VEVENT
BEGIN:VTIMEZONE
TZID:Europe/Paris
X-LIC-LOCATION:Europe/Paris
BEGIN:STANDARD
DTSTART:20121028T020000
TZOFFSETFROM:+0200
TZOFFSETTO:+0100
TZNAME:CET
END:STANDARD
END:VTIMEZONE
END:VCALENDAR