BEGIN:VCALENDAR
VERSION:2.0
PRODID:-//wp-events-plugin.com//7.2.3.1//EN
TZID:Europe/Paris
X-WR-TIMEZONE:Europe/Paris
BEGIN:VEVENT
UID:3794@bananierbleu.fr
DTSTART;TZID=Europe/Paris:20240426T210000
DTEND;TZID=Europe/Paris:20240426T210000
DTSTAMP:20240325T163959Z
URL:https://bananierbleu.fr/concerts-test/max-cilla-jazz-racines-des-morne
 s-quartet-2/
SUMMARY:Max Cilla "Jazz Racines Des Mornes" Quartet - le Baiser Salé - 26 
 Avr 24 21:00
DESCRIPTION:\n\nMAX CILLA Auteur-Compositeur/Flûte des Mornes/flûte cubai
 ne/guiro\nARLET FEUILLARD piano\nDOMINIQUE TAULIAUT congas/tambou-ka\nNAIM
 A BICEP ti-bwa/timbales\nMARTIN BRUNET basse\n\n\nDeux concerts qui rappel
 lent les Nuits Musicales des Cases Créoles pratiquées dans les Mornes (m
 ontagnes des Antilles) autour des percussions traditionnelles. A travers l
 a Flûte Max Cilla nous emmène dans le monde de l’improvisation musical
 e appartenant à la tradition orale des Mornes\, enrichie des influences d
 u Latin-Jazz haute expression des musiques Afro-Cubaines et Portoricaines 
 aspects majeurs de la musique caribéenne.\nUne musique dynamique portée 
 par l’énergie des tambours\, des percussions et de la basse rythmique \
 ; une musique inspirante\, joyeuse et dansante
ATTACH;FMTTYPE=image/jpeg:https://bananierbleu.fr/wp-content/uploads/2024/
 03/386-MAX-CILLA-SITE.jpg
CATEGORIES:Concerts en France
LOCATION:le Baiser Salé\, 58\, rue des Lombards\, Paris\, Île de France\,
  75001\, IleDeFrance\, France
GEO:48.8598;2.34791
X-APPLE-STRUCTURED-LOCATION;VALUE=URI;X-ADDRESS=58\, rue des Lombards\, Par
 is\, Île de France\, 75001\, IleDeFrance\, France;X-APPLE-RADIUS=100;X-TI
 TLE=le Baiser Salé:geo:48.8598,2.34791
END:VEVENT
BEGIN:VTIMEZONE
TZID:Europe/Paris
X-LIC-LOCATION:Europe/Paris
BEGIN:DAYLIGHT
DTSTART:20240331T030000
TZOFFSETFROM:+0100
TZOFFSETTO:+0200
TZNAME:CEST
END:DAYLIGHT
END:VTIMEZONE
END:VCALENDAR