BEGIN:VCALENDAR
VERSION:2.0
PRODID:-//wp-events-plugin.com//7.2.3.1//EN
TZID:Europe/Paris
X-WR-TIMEZONE:Europe/Paris
BEGIN:VEVENT
UID:3260@bananierbleu.fr
DTSTART;TZID=Europe/Paris:20220114T220000
DTEND;TZID=Europe/Paris:20220114T233000
DTSTAMP:20220112T151706Z
URL:https://bananierbleu.fr/concerts-test/max-cilla-jazz-racines-des-morne
 s-rencontre-afrique-antilles-2/
SUMMARY:MAX CILLA "Jazz Racines des Mornes" - Rencontre Afrique-Antilles - 
 le Baiser Salé - 14 Jan 22 22:00
DESCRIPTION:MAX CILLA flûte des Mornes/ Flûte d'ébène/ Guiro / voix\nAL
 I BOULO SANTO CISSOKO kora/chant du Sénégal\nSIMON VILLE-RENON ti-bwa/ti
 mbales\nDOMINIQUE TAULIAUT congas/tambou-Ka\n\nLe Père de la Flûte des M
 ornes propose une soirée conviviale du genre des Nuits Musicales des Case
 s Créoles pratiquées dans les Mornes (les hauteurs des Antilles)\, avec 
 un invité de marque du Sénégal en la personne d’Ali Boulo Santo Cisso
 ko\, Grand Griot\, Maître de Kora Manding\, Chanteur – Auteur – Compo
 siteur – World Music – Afro Jazz. Une occasion de vivre en musique la 
 Rencontre Magique de la Flûte des Mornes et les sonorités des plus beaux
  thèmes du panorama musical mandingue et autres\, si bien exprimés par A
 li et soutenus par deux excellents percussionnistes : Simon Ville-Renon de
  l’île de France\, Ti-Bwa et Timbales et Dominique Tauliaut de la Guade
 loupe : Congas et Tambou-Ka.\nVous serez transportés par la beauté du ma
 riage des sons de la Kora et de la Flûte des Mornes dans les compositions
  de Max Cilla.\n\nPour écouter: https://www.youtube.com/watch?v=TrhnqEV6M
 Iw
ATTACH;FMTTYPE=image/jpeg:https://bananierbleu.fr/wp-content/uploads/2022/
 01/546-max-cilla.jpg
CATEGORIES:Concerts en France
LOCATION:le Baiser Salé\, 58\, rue des Lombards\, Paris\, Île de France\,
  75001\, IleDeFrance\, France
GEO:48.8598;2.34791
X-APPLE-STRUCTURED-LOCATION;VALUE=URI;X-ADDRESS=58\, rue des Lombards\, Par
 is\, Île de France\, 75001\, IleDeFrance\, France;X-APPLE-RADIUS=100;X-TI
 TLE=le Baiser Salé:geo:48.8598,2.34791
END:VEVENT
BEGIN:VTIMEZONE
TZID:Europe/Paris
X-LIC-LOCATION:Europe/Paris
BEGIN:STANDARD
DTSTART:20211031T020000
TZOFFSETFROM:+0200
TZOFFSETTO:+0100
TZNAME:CET
END:STANDARD
END:VTIMEZONE
END:VCALENDAR