BEGIN:VCALENDAR
VERSION:2.0
PRODID:-//wp-events-plugin.com//7.2.3.1//EN
TZID:Europe/Paris
X-WR-TIMEZONE:Europe/Paris
BEGIN:VEVENT
UID:3259@bananierbleu.fr
DTSTART;TZID=Europe/Paris:20220114T200000
DTEND;TZID=Europe/Paris:20220114T213000
DTSTAMP:20220112T151614Z
URL:https://bananierbleu.fr/concerts-test/max-cilla-jazz-racines-des-morne
 s-rencontre-afrique-antilles/
SUMMARY:MAX CILLA \\"Jazz Racines des Mornes\\" - Rencontre Afrique-Antille
 s - le Baiser Salé - 14 Jan 22 20:00
DESCRIPTION:MAX CILLA flûte des Mornes/ Flûte d'ébène/ Guiro / voix\nAL
 I BOULO SANTO CISSOKO kora /chant du Sénégal\nSIMON VILLE-RENON ti-bwa /
 timbales\nDOMINIQUE TAULIAUT congas/tambou-Ka\n\nLe Père de la Flûte des
  Mornes propose une soirée conviviale du genre des Nuits Musicales des Ca
 ses Créoles pratiquées dans les Mornes (les hauteurs des Antilles)\, ave
 c un invité de marque du Sénégal en la personne d’Ali Boulo Santo Cis
 soko\, Grand Griot\, Maître de Kora Manding\, Chanteur – Auteur – Com
 positeur – World Music – Afro Jazz. Une occasion de vivre en musique l
 a Rencontre Magique de la Flûte des Mornes et les sonorités des plus bea
 ux thèmes du panorama musical mandingue et autres\, si bien exprimés par
  Ali et soutenus par deux excellents percussionnistes : Simon Ville-Renon 
 de l’île de France\, Ti-Bwa et Timbales et Dominique Tauliaut de la Gua
 deloupe : Congas et Tambou-Ka.\nVous serez transportés par la beauté du 
 mariage des sons de la Kora et de la Flûte des Mornes dans les compositio
 ns de Max Cilla.
ATTACH;FMTTYPE=image/jpeg:https://bananierbleu.fr/wp-content/uploads/2022/
 01/546-max-cilla-1.jpg
CATEGORIES:Concerts en France
LOCATION:le Baiser Salé\, 58\, rue des Lombards\, Paris\, Île de France\,
  75001\, IleDeFrance\, France
GEO:48.8598;2.34791
X-APPLE-STRUCTURED-LOCATION;VALUE=URI;X-ADDRESS=58\, rue des Lombards\, Par
 is\, Île de France\, 75001\, IleDeFrance\, France;X-APPLE-RADIUS=100;X-TI
 TLE=le Baiser Salé:geo:48.8598,2.34791
END:VEVENT
BEGIN:VTIMEZONE
TZID:Europe/Paris
X-LIC-LOCATION:Europe/Paris
BEGIN:STANDARD
DTSTART:20211031T020000
TZOFFSETFROM:+0200
TZOFFSETTO:+0100
TZNAME:CET
END:STANDARD
END:VTIMEZONE
END:VCALENDAR