BEGIN:VCALENDAR
VERSION:2.0
PRODID:-//wp-events-plugin.com//7.2.3.1//EN
TZID:Europe/Paris
X-WR-TIMEZONE:Europe/Paris
BEGIN:VEVENT
UID:2553@bananierbleu.fr
DTSTART;TZID=Europe/Paris:20180316T210000
DTEND;TZID=Europe/Paris:20180316T210000
DTSTAMP:20180316T075758Z
URL:https://bananierbleu.fr/concerts-test/max-fontes-quartet/
SUMMARY:Max Fontès quartet - New Ti'Paris - 16 Mar 18 21:00
DESCRIPTION:Ce vendredi 16 Mars à 20h30 au New Ti Paris: MAX FONTES QUARTE
 T.\nGuests : le pianiste Alain Mallet – avec Jocelyn Ménard (Saxophone)
  &amp\; Joseph Cazimir (Batterie)\n\nRéservations: 05 90 88 43 20 / 06 90
  71 88 33
ATTACH;FMTTYPE=image/jpeg:https://bananierbleu.fr/wp-content/uploads/2018/
 03/new-ti-paris-2018-03-16.jpg
CATEGORIES:Concerts en Guadeloupe
LOCATION:New Ti'Paris\, Perinet\, Le Gosier\, Guadeloupe\, 97190\, Guadelou
 pe\, Guadeloupe
GEO:16.2077962;-61.48492470000002
X-APPLE-STRUCTURED-LOCATION;VALUE=URI;X-ADDRESS=Perinet\, Le Gosier\, Guade
 loupe\, 97190\, Guadeloupe\, Guadeloupe;X-APPLE-RADIUS=100;X-TITLE=New Ti'
 Paris:geo:16.2077962,-61.48492470000002
END:VEVENT
BEGIN:VTIMEZONE
TZID:Europe/Paris
X-LIC-LOCATION:Europe/Paris
BEGIN:STANDARD
DTSTART:20171029T020000
TZOFFSETFROM:+0200
TZOFFSETTO:+0100
TZNAME:CET
END:STANDARD
END:VTIMEZONE
END:VCALENDAR