BEGIN:VCALENDAR
VERSION:2.0
PRODID:-//wp-events-plugin.com//7.2.3.1//EN
TZID:Europe/Paris
X-WR-TIMEZONE:Europe/Paris
BEGIN:VEVENT
UID:2182@bananierbleu.fr
DTSTART;TZID=Europe/Paris:20170413T200000
DTEND;TZID=Europe/Paris:20170413T200000
DTSTAMP:20170403T101209Z
URL:https://bananierbleu.fr/concerts-test/max-hartock/
SUMMARY:Max Hartock - Péniche le Marcounet - 13 Avr 17 20:00
DESCRIPTION:Le « Max Hartock&nbsp\;Quartet&nbsp\;» a été fondé en janv
 ier 2016\, le batteur et compositeur Max Hartock a souhaité donner corps 
 à ses propres morceaux\, pour partager des mélodies dont chacune illustr
 e un cheminement tout autant personnel que musical. Le quartet s’évade 
 aux portes d’un jazz moderne\, guidé avant tout par la mélodie\, car s
 eule prime la musicalité\, solaire\, naïve\, sincère. Une itération me
 née par de talentueux musiciens\, grands voyageurs de ce chant intérieur
 \, désormais ouvert à tous.\n\nLine up : Max Hartock batterie\, composit
 ion&nbsp\;-&nbsp\;Betrand Beruard contrebasse - Richard Turegano &nbsp\;pi
 ano&nbsp\;-&nbsp\;Ricardo Izquierdo&nbsp\;saxophone ténor
ATTACH;FMTTYPE=image/jpeg:https://bananierbleu.fr/wp-content/uploads/2017/
 04/maxhartock.jpg
CATEGORIES:Concerts en France
LOCATION:Péniche le Marcounet\, Quai de l'Hôtel de Ville\, Paris\, 75004\
 , France
GEO:48.8549341;2.3535179000000426
X-APPLE-STRUCTURED-LOCATION;VALUE=URI;X-ADDRESS=Quai de l'Hôtel de Ville\,
  Paris\, 75004\, France;X-APPLE-RADIUS=100;X-TITLE=Péniche le Marcounet:g
 eo:48.8549341,2.3535179000000426
END:VEVENT
BEGIN:VTIMEZONE
TZID:Europe/Paris
X-LIC-LOCATION:Europe/Paris
BEGIN:DAYLIGHT
DTSTART:20170326T030000
TZOFFSETFROM:+0100
TZOFFSETTO:+0200
TZNAME:CEST
END:DAYLIGHT
END:VTIMEZONE
END:VCALENDAR