BEGIN:VCALENDAR
VERSION:2.0
PRODID:-//wp-events-plugin.com//7.2.3.1//EN
TZID:Europe/Paris
X-WR-TIMEZONE:Europe/Paris
BEGIN:VEVENT
UID:2676@bananierbleu.fr
DTSTART;TZID=Europe/Paris:20180921T213000
DTEND;TZID=Europe/Paris:20180921T213000
DTSTAMP:20180814T084734Z
URL:https://bananierbleu.fr/concerts-test/max-mona-verite/
SUMMARY:Max Mona "Vérité" - le Baiser Salé - 21 Sep 18 21:30
DESCRIPTION:MAX MONA voix/flûte\nBAGO percus\nWODY CEREYON basse\nGEROGES 
 GRANVILLE piano\,\nTBT Ti bwa tè\n\nMax Mona présente son premier album 
 “Vérité”. Il présente au public un projet qui lui ressemble. On res
 sent l’air de famille avec son père\, le grand Eugène Mona dans sa car
 rure\, son timbre de voix et sa puissance\, sans faire pourtant dans le mi
 métisme. Max Mona déboule sur la scène musicale avec un esprit de reven
 dication de l’authenticité martiniquaise. « Vérité » est d’une gr
 ande beauté\, Max Mona se place comme digne héritier d’une tradition m
 usicale : héritage oblige !
ATTACH;FMTTYPE=image/jpeg:https://bananierbleu.fr/wp-content/uploads/2018/
 08/384-maxmona.jpg
CATEGORIES:Concerts en France
LOCATION:le Baiser Salé\, 58\, rue des Lombards\, Paris\, Île de France\,
  75001\, IleDeFrance\, France
GEO:48.8598;2.34791
X-APPLE-STRUCTURED-LOCATION;VALUE=URI;X-ADDRESS=58\, rue des Lombards\, Par
 is\, Île de France\, 75001\, IleDeFrance\, France;X-APPLE-RADIUS=100;X-TI
 TLE=le Baiser Salé:geo:48.8598,2.34791
END:VEVENT
BEGIN:VTIMEZONE
TZID:Europe/Paris
X-LIC-LOCATION:Europe/Paris
BEGIN:DAYLIGHT
DTSTART:20180325T030000
TZOFFSETFROM:+0100
TZOFFSETTO:+0200
TZNAME:CEST
END:DAYLIGHT
END:VTIMEZONE
END:VCALENDAR