BEGIN:VCALENDAR
VERSION:2.0
PRODID:-//wp-events-plugin.com//7.2.3.1//EN
TZID:Europe/Paris
X-WR-TIMEZONE:Europe/Paris
BEGIN:VEVENT
UID:1786@bananierbleu.fr
DTSTART;TZID=Europe/Paris:20160430T203000
DTEND;TZID=Europe/Paris:20160430T220000
DTSTAMP:20160424T164313Z
URL:https://bananierbleu.fr/concerts-test/max-zita-gospel-deux-choeurs/
SUMMARY:Max Zita "Gospel pour deux chœurs" - Eglise Saint Christophe de Ja
 vel - 30 Avr 16 20:30
DESCRIPTION:Les deux premiers chœurs\, Gospel Voice Academy et Chœur Gosp
 el de Gournay\, formés par Max ZITA se retrouvent sur une même scène po
 ur un événement unique. Ne manquez pas cette réunion de c(h)oeurs pour 
 un moment de pur bonheur.\n\nConcert à libre participation\n\nM° Javel
CATEGORIES:Concerts en France
LOCATION:Eglise Saint Christophe de Javel\, 4 rue St Christophe\, Paris\, 
 Île de France\, 75015\, IleDeFrance\, France
GEO:48.844627;2.279713
X-APPLE-STRUCTURED-LOCATION;VALUE=URI;X-ADDRESS=4 rue St Christophe\, Paris
 \, Île de France\, 75015\, IleDeFrance\, France;X-APPLE-RADIUS=100;X-TITL
 E=Eglise Saint Christophe de Javel:geo:48.844627,2.279713
END:VEVENT
BEGIN:VTIMEZONE
TZID:Europe/Paris
X-LIC-LOCATION:Europe/Paris
BEGIN:DAYLIGHT
DTSTART:20160327T030000
TZOFFSETFROM:+0100
TZOFFSETTO:+0200
TZNAME:CEST
END:DAYLIGHT
END:VTIMEZONE
END:VCALENDAR