BEGIN:VCALENDAR
VERSION:2.0
PRODID:-//wp-events-plugin.com//7.2.3.1//EN
TZID:Europe/Paris
X-WR-TIMEZONE:Europe/Paris
BEGIN:VEVENT
UID:2679@bananierbleu.fr
DTSTART;TZID=Europe/Paris:20181208T200000
DTEND;TZID=Europe/Paris:20181208T200000
DTSTAMP:20180814T132636Z
URL:https://bananierbleu.fr/concerts-test/melissa-laveaux-2/
SUMMARY:Mélissa Laveaux - Paloma - 8 Déc 18 20:00
DESCRIPTION:D’Haïti\, elle est revenue avec des sons\, des mélodies\, d
 es ambiances et des histoires de temps évanouis mais jamais révolus\, et
  autant de couleurs d’un tableau qu’elle s’est sentie libre de compo
 ser. Une re-création à partir de bribes\, de phrases\, d’airs anciens\
 , d’hymnes vaudous\, assemblés comme un patchwork identitaire au gré d
 e l’imaginaire de Mélissa. Libre de les draper de son énergie rock\, d
 e guitares nerveuses et profondes\, et de leur donner vie sous le voile si
 ngulier de sa voix.\n\nJ’ai cherché des chansons qui ont été ou aurai
 ent pu être chantées à l’époque de l’occupation et qui disaient «
  on n’a pas honte de qui on est\, on est bien comme on est ».\n\nMeliss
 a Laveaux : Guitare\, Voix / Elise Blanchard : Basse\, Chœurs / Martin Wa
 ngermée : Batterie\n
ATTACH;FMTTYPE=image/jpeg:https://bananierbleu.fr/wp-content/uploads/2018/
 08/melissa_laveaux.jpg
CATEGORIES:Concerts en France
LOCATION:Paloma\, 250 Chemin de l'Aérodrome\, Nîmes\, 30000\, France
GEO:43.8553057;4.404629
X-APPLE-STRUCTURED-LOCATION;VALUE=URI;X-ADDRESS=250 Chemin de l'Aérodrome\
 , Nîmes\, 30000\, France;X-APPLE-RADIUS=100;X-TITLE=Paloma:geo:43.8553057
 ,4.404629
END:VEVENT
BEGIN:VTIMEZONE
TZID:Europe/Paris
X-LIC-LOCATION:Europe/Paris
BEGIN:STANDARD
DTSTART:20181028T020000
TZOFFSETFROM:+0200
TZOFFSETTO:+0100
TZNAME:CET
END:STANDARD
END:VTIMEZONE
END:VCALENDAR