BEGIN:VCALENDAR
VERSION:2.0
PRODID:-//wp-events-plugin.com//7.2.3.1//EN
TZID:Europe/Paris
X-WR-TIMEZONE:Europe/Paris
BEGIN:VEVENT
UID:2677@bananierbleu.fr
DTSTART;TZID=Europe/Paris:20181004T203000
DTEND;TZID=Europe/Paris:20181004T203000
DTSTAMP:20180814T131057Z
URL:https://bananierbleu.fr/concerts-test/melissa-laveaux/
SUMMARY:Mélissa Laveaux - Le JAM - 4 Oct 18 20:30
DESCRIPTION:D’Haïti\, elle est revenue avec des sons\, des mélodies\, d
 es ambiances et des histoires de temps évanouis mais jamais révolus\, et
  autant de couleurs d’un tableau qu’elle s’est sentie libre de compo
 ser. Une re-création à partir de bribes\, de phrases\, d’airs anciens\
 , d’hymnes vaudous\, assemblés comme un patchwork identitaire au gré d
 e l’imaginaire de Mélissa. Libre de les draper de son énergie rock\, d
 e guitares nerveuses et profondes\, et de leur donner vie sous le voile si
 ngulier de sa voix.\n\nJ’ai cherché des chansons qui ont été ou aurai
 ent pu être chantées à l’époque de l’occupation et qui disaient «
  on n’a pas honte de qui on est\, on est bien comme on est ».\n\nMeliss
 a Laveaux : Guitare\, Voix / Elise Blanchard : Basse\, Chœurs / Martin Wa
 ngermée : Batterie\n
ATTACH;FMTTYPE=image/jpeg:https://bananierbleu.fr/wp-content/uploads/2018/
 08/melissa_laveaux.jpg
CATEGORIES:Concerts en France
LOCATION:Le JAM\, 100 rue Ferdinand de Lesseps\, Montpellier\, Occitanie\, 
 34000\, Occitanie\, France
GEO:43.5936252;3.8783366000000115
X-APPLE-STRUCTURED-LOCATION;VALUE=URI;X-ADDRESS=100 rue Ferdinand de Lessep
 s\, Montpellier\, Occitanie\, 34000\, Occitanie\, France;X-APPLE-RADIUS=10
 0;X-TITLE=Le JAM:geo:43.5936252,3.8783366000000115
END:VEVENT
BEGIN:VTIMEZONE
TZID:Europe/Paris
X-LIC-LOCATION:Europe/Paris
BEGIN:DAYLIGHT
DTSTART:20180325T030000
TZOFFSETFROM:+0100
TZOFFSETTO:+0200
TZNAME:CEST
END:DAYLIGHT
END:VTIMEZONE
END:VCALENDAR