BEGIN:VCALENDAR
VERSION:2.0
PRODID:-//wp-events-plugin.com//7.2.3.1//EN
TZID:Europe/Paris
X-WR-TIMEZONE:Europe/Paris
BEGIN:VEVENT
UID:854@bananierbleu.fr
DTSTART;TZID=Europe/Paris:20140614T213000
DTEND;TZID=Europe/Paris:20140614T213000
DTSTAMP:20140513T093400Z
URL:https://bananierbleu.fr/concerts-test/michael-joussein-latin-quarter-2
 /
SUMMARY:Michael Joussein latin quarter - le Baiser Salé - 14 Juin 14 21:30
DESCRIPTION:Michael Joussein lead/trombone/flute à bec/coquillage\,\nRenau
 d Palisseaux piano/choeurs\,\nDavid Picard basse/choeurs\, Simon Ville tim
 balès\,\nAlain Douieb congas.\nSpécialiste du jazz afro-cubain\, Michael
  Joussein a joué avec les plus grands noms du jazz du monde et pop music 
 (Wynton Marsalis\, Lee Konitz\, Dee Dee Bridgewater\, Anga Diaz\, Candide 
 Fable\, Yuri Buenaventura\, Maraca\, Iggy Pop\, Eddy Mitchell\, Sanseverin
 o..). A travers une résidence qui commence à ce jour\, tous les 2ème sa
 medis du mois jusqu’en juillet 2014\, il nous présente son nouveau proj
 et "latin quarter" qui mêle musiques latines et afro-orientales au jazz. 
 Différents musiciens seront conviés à chaque date !
CATEGORIES:Concerts en France
LOCATION:le Baiser Salé\, 58\, rue des Lombards\, Paris\, Île de France\,
  75001\, IleDeFrance\, France
GEO:48.8598;2.34791
X-APPLE-STRUCTURED-LOCATION;VALUE=URI;X-ADDRESS=58\, rue des Lombards\, Par
 is\, Île de France\, 75001\, IleDeFrance\, France;X-APPLE-RADIUS=100;X-TI
 TLE=le Baiser Salé:geo:48.8598,2.34791
END:VEVENT
BEGIN:VTIMEZONE
TZID:Europe/Paris
X-LIC-LOCATION:Europe/Paris
BEGIN:DAYLIGHT
DTSTART:20140330T030000
TZOFFSETFROM:+0100
TZOFFSETTO:+0200
TZNAME:CEST
END:DAYLIGHT
END:VTIMEZONE
END:VCALENDAR