BEGIN:VCALENDAR
VERSION:2.0
PRODID:-//wp-events-plugin.com//7.2.3.1//EN
TZID:Europe/Paris
X-WR-TIMEZONE:Europe/Paris
BEGIN:VEVENT
UID:3823@bananierbleu.fr
DTSTART;TZID=Europe/Paris:20240605T203000
DTEND;TZID=Europe/Paris:20240605T203000
DTSTAMP:20240520T145625Z
URL:https://bananierbleu.fr/concerts-test/mino-cinelu-multikulti-trio/
SUMMARY:Mino Cinelu - MultiKulti Trio - New Morning - 5 Juin 24 20:30
DESCRIPTION:Mino Cinelu est de retour ! Le percussionniste New-Yorkais\, re
 péré par Miles Davis (quatre albums ensemble !)\, qui fut de tous les bo
 ns coups ensuite dans le jazz (Weather Report\, Marcus Miller\, Cassandra 
 Wilson...)\, et au-delà (Sting\, Peter Gabriel\, Tracy Chapman\, Bernard 
 Lavilliers...) présente un tout nouveau trio avec Juan Carmona (guitare) 
 et Etienne Mbappé (basse).\n\nTrio "MultiKulti" tant les directions dans 
 la musique sont diverses avec Mino. Le jazz est ici ouvert tant aux musiqu
 es urbaines que plus traditionnelles et acoustiques. Et Mino ne reste pas 
 cantonné derrière ses percus.\n\nC'est un véritable petit All-Star qui 
 se produira sur les planches mythiques du New Morning\, et on annonce auss
 i pour la même occasion quelques invités de dernière minute de haut vol
  ! Nouveau trio pour Mino Cinelu \; nouvelle aventure au long cours.\n\n 	
 Mino Cinelu - Guitare\, Percussions\, Voix\n 	Juan Carmona - Guitare\n 	É
 tienne M'Bappé - Basse\n
ATTACH;FMTTYPE=image/jpeg:https://bananierbleu.fr/wp-content/uploads/2024/
 05/MinoMultiKulti.jpg
CATEGORIES:Concerts en France
LOCATION:New Morning\, 7-9 rue des Petites Ecuries\, Paris\, Île de France
 \, 75010\, IleDeFrance\, France
GEO:48.8732;2.35323
X-APPLE-STRUCTURED-LOCATION;VALUE=URI;X-ADDRESS=7-9 rue des Petites Ecuries
 \, Paris\, Île de France\, 75010\, IleDeFrance\, France;X-APPLE-RADIUS=10
 0;X-TITLE=New Morning:geo:48.8732,2.35323
END:VEVENT
BEGIN:VTIMEZONE
TZID:Europe/Paris
X-LIC-LOCATION:Europe/Paris
BEGIN:DAYLIGHT
DTSTART:20240331T030000
TZOFFSETFROM:+0100
TZOFFSETTO:+0200
TZNAME:CEST
END:DAYLIGHT
END:VTIMEZONE
END:VCALENDAR