BEGIN:VCALENDAR
VERSION:2.0
PRODID:-//wp-events-plugin.com//7.2.3.1//EN
TZID:Europe/Paris
X-WR-TIMEZONE:Europe/Paris
BEGIN:VEVENT
UID:459@bananierbleu.fr
DTSTART;TZID=Europe/Paris:20130515T190000
DTEND;TZID=Europe/Paris:20130515T190000
DTSTAMP:20130421T081701Z
URL:https://bananierbleu.fr/concerts-test/mizikopeyi-2/
SUMMARY:Tony Chasseur et Thierry Vaton présentent Mizikopeyi - la Reine Bl
 anche - 15 Mai 13 19:00
DESCRIPTION:Le big band présentera son nouvel album "Jazz créole". Les pl
 aces sont limitées\, songez à réserver\, c'est un petit théâtre... (0
 1 40 05 06 96).\n\nEn tout\, il y a trois dates à retenir pour Mizikopeyi
  :\n15 mai\, 19h00\, Théâtre de la Reine Blanche à Paris.\n18 mai\, Fes
 tival Terre de Blues à Marie-Galante.\n19 mai\, Lamentin Jazz Project en 
 Martinique.\n\nTony Chasseur
CATEGORIES:Concerts en France
LOCATION:la Reine Blanche\, 2 bis passage ruelle\, Paris\, 75018\, France
GEO:48.8867328;2.359029200000009
X-APPLE-STRUCTURED-LOCATION;VALUE=URI;X-ADDRESS=2 bis passage ruelle\, Pari
 s\, 75018\, France;X-APPLE-RADIUS=100;X-TITLE=la Reine Blanche:geo:48.8867
 328,2.359029200000009
END:VEVENT
BEGIN:VTIMEZONE
TZID:Europe/Paris
X-LIC-LOCATION:Europe/Paris
BEGIN:DAYLIGHT
DTSTART:20130331T030000
TZOFFSETFROM:+0100
TZOFFSETTO:+0200
TZNAME:CEST
END:DAYLIGHT
END:VTIMEZONE
END:VCALENDAR