BEGIN:VCALENDAR
VERSION:2.0
PRODID:-//wp-events-plugin.com//7.2.3.1//EN
TZID:Europe/Paris
X-WR-TIMEZONE:Europe/Paris
BEGIN:VEVENT
UID:460@bananierbleu.fr
DTSTART;TZID=Europe/Paris:20130518T194500
DTEND;TZID=Europe/Paris:20130518T194500
DTSTAMP:20130323T161820Z
URL:https://bananierbleu.fr/concerts-test/mizikopeyi-3/
SUMMARY:Mizikopeyi - Chateau Murât - 18 Mai 13 19:45
DESCRIPTION:Salut à tous\, c'est un Mizikopéyi nouvelle formule qui se pr
 oduira en mai\, plus orienté vers le jazz créole.\n\nTrois dates à rete
 nir :\n15 mai\, 19h00\, Théâtre de la Reine Blanche à Paris.\n18 mai\, 
 Festival Terre de Blues à Marie-Galante.\n19 mai\, Lamentin Jazz Project 
 en Martinique.\n\nTony Chasseur
CATEGORIES:Concerts en Guadeloupe
LOCATION:Chateau Murât\, Section Murât\, Grand-Bourg de Marie-Galante\, G
 uadeloupe\, 97112\, France
GEO:45.1942356;-123.88531979999999
X-APPLE-STRUCTURED-LOCATION;VALUE=URI;X-ADDRESS=Section Murât\, Grand-Bour
 g de Marie-Galante\, Guadeloupe\, 97112\, France;X-APPLE-RADIUS=100;X-TITL
 E=Chateau Murât:geo:45.1942356,-123.88531979999999
END:VEVENT
BEGIN:VTIMEZONE
TZID:Europe/Paris
X-LIC-LOCATION:Europe/Paris
BEGIN:DAYLIGHT
DTSTART:20130331T030000
TZOFFSETFROM:+0100
TZOFFSETTO:+0200
TZNAME:CEST
END:DAYLIGHT
END:VTIMEZONE
END:VCALENDAR