BEGIN:VCALENDAR
VERSION:2.0
PRODID:-//wp-events-plugin.com//7.2.3.1//EN
TZID:Europe/Paris
X-WR-TIMEZONE:Europe/Paris
BEGIN:VEVENT
UID:781@bananierbleu.fr
DTSTART;TZID=Europe/Paris:20140321T200000
DTEND;TZID=Europe/Paris:20140321T200000
DTSTAMP:20140307T230902Z
URL:https://bananierbleu.fr/concerts-test/mizikopeyi-big-band-2/
SUMMARY:Mizikopeyi big band - l'Atrium Martinique - 21 Mar 14 20:00
DESCRIPTION:Avec Tony Chasseur &amp\; Thierry Vaton
CATEGORIES:Concerts dans la Caraïbe,Concerts en Martinique
LOCATION:l'Atrium Martinique\, 6 rue Jacques Cazotte\, Fort de France\, Mar
 tinique\, 97200\, Martinique\, Martinique
GEO:14.605426;-61.0660431
X-APPLE-STRUCTURED-LOCATION;VALUE=URI;X-ADDRESS=6 rue Jacques Cazotte\, For
 t de France\, Martinique\, 97200\, Martinique\, Martinique;X-APPLE-RADIUS=
 100;X-TITLE=l'Atrium Martinique:geo:14.605426,-61.0660431
END:VEVENT
BEGIN:VTIMEZONE
TZID:Europe/Paris
X-LIC-LOCATION:Europe/Paris
BEGIN:STANDARD
DTSTART:20131027T020000
TZOFFSETFROM:+0200
TZOFFSETTO:+0100
TZNAME:CET
END:STANDARD
END:VTIMEZONE
END:VCALENDAR