BEGIN:VCALENDAR
VERSION:2.0
PRODID:-//wp-events-plugin.com//7.2.3.1//EN
TZID:Europe/Paris
X-WR-TIMEZONE:Europe/Paris
BEGIN:VEVENT
UID:3129@bananierbleu.fr
DTSTART;TZID=Europe/Paris:20200319T200000
DTEND;TZID=Europe/Paris:20200319T200000
DTSTAMP:20200224T090855Z
URL:https://bananierbleu.fr/concerts-test/moonlight-benjamin-3/
SUMMARY:Moonlight Benjamin - Le Hasard Ludique - 19 Mar 20 20:00
DESCRIPTION:La punky voodoo queen Moonlight Benjamin est de retour avec un 
 nouvel album\, près de 2 ans après la sortie remarquée du précédent o
 pus Siltane. Décrite comme la "Patti Smith Haïtienne" par le journal ang
 lais The Guardian\, et playlistée par Iggy Pop himself\, la chanteuse et 
 prêtresse vaudou poursuit son exploration d’un blues rock caribéen uni
 que et nous propose 10 nouveaux titres puissants dans lesquels sa voix inc
 royable se confronte aux guitares fiévreuses et saturées ...\n\n+ Premi
 ère partie : Tangled Tape {nu-soul} :\n\nDignes héritiers de Morcheeba\,
  les membres de Tangled Tape nous proposent un voyage inattendu où J Dill
 a rencontre Curtis Mayfield et Al Green pactise avec Erykah Badu
ATTACH;FMTTYPE=image/jpeg:https://bananierbleu.fr/wp-content/uploads/2020/
 02/87406487_3096093190424761_8762301787186135040_n.jpg
CATEGORIES:Concerts en France
LOCATION:Le Hasard Ludique\, 128\, avenue de Saint Ouen\, Paris\, Ile de Fr
 ance\, 75018\, IleDeFrance\, France
X-APPLE-STRUCTURED-LOCATION;VALUE=URI;X-ADDRESS=128\, avenue de Saint Ouen\
 , Paris\, Ile de France\, 75018\, IleDeFrance\, France;X-APPLE-RADIUS=100;
 X-TITLE=Le Hasard Ludique:geo:0,0
END:VEVENT
BEGIN:VTIMEZONE
TZID:Europe/Paris
X-LIC-LOCATION:Europe/Paris
BEGIN:STANDARD
DTSTART:20191027T020000
TZOFFSETFROM:+0200
TZOFFSETTO:+0100
TZNAME:CET
END:STANDARD
END:VTIMEZONE
END:VCALENDAR