BEGIN:VCALENDAR
VERSION:2.0
PRODID:-//wp-events-plugin.com//7.2.3.1//EN
TZID:Europe/Paris
X-WR-TIMEZONE:Europe/Paris
BEGIN:VEVENT
UID:2544@bananierbleu.fr
DTSTART;TZID=Europe/Paris:20180328T203000
DTEND;TZID=Europe/Paris:20180328T203000
DTSTAMP:20180315T144953Z
URL:https://bananierbleu.fr/concerts-test/moonlight-benjamin-siltane-relea
 se-party/
SUMMARY:Moonlight Benjamin - Siltane release party - le Petit Bain - 28 Mar
  18 20:30
DESCRIPTION:Billetterie &gt\;&gt\;&gt\; https://www.weezevent.com/queen-cre
 ole-haiti-28mars-paris\n\nMa Case &amp\; RFI Talent présentent la soirée
  Queens Créoles Haïti avec Moonlight Benjamin et Dyna B. Entre blues\, r
 ock voodou\, et reggae\, deux chanteuses\, deux univers\, deux artistes po
 ssédées et sans concession\, animées par la même volonté de fusionner
  leur culture avec les musiques actuelles.\n\nSortie de l'album "Siltane" 
 de Moonlight Benjamin\n\nMERCREDI 28 MARS\n\nQUEENS CREOLES HAITI\nMOONLIG
 HT BENJAMIN\n+ DYNA-B \nWorld/Blues/Reggae\n\n20h30 / 10€/13€ en prév
 entes hors frais de location\, 13€/15€ sur place\n\nMa Case et RFI tal
 ent présentent « Queens Créoles » avec Moonlight Benjamin et Dyna B !\
 n\nMOONLIGHT BENJAMIN\nLa puissante et inédite fusion entre les mélodies
  et rythmes vaudou de la Caraïbe\, et le blues rock US des 70’s \; le c
 hoc entre la voix puissante et révoltée de Moonlight et la tension des g
 uitares saturées … la transe vaudou sous une forme inédite et détonan
 te ! 12 après son début de carrière (Découverte Printemps de Bourges 2
 008 notamment)\, et en parallèle de ses collaborations jazz et world musi
 c avec Omar Sosa et Jacques Schwarz-Bart depuis 2013\, Moonlight Benjamin 
 relance un nouveau projet personnel et un 3ème album tournés cette fois 
 vers des musiques plus électriques\, portées par le guitariste et arrang
 eur Matthis Pascaud.\n\nhttp://moonlightbenjamin.com/\n\nDYNA-B\nQuatre an
 s après "Take a break"\, la jeune chanteuse née en Haïti signe un deuxi
 ème album "Soul Vibrations". Pas moins de quinze plages aux couleurs soul
 \, pop et reggae. Des styles en harmonie parfaite avec la voix suave de Dy
 na B. A 26 ans\, l’artiste belgo-haïtienne a l’âme généreuse et se
 mble avoir été bercée par les voix des divas afro-américaines telles q
 ue Nina Simone ou Tracy Chapman. Dyna B chante une musique bigarrée refl
 étant à merveille sa double culture. Que les textes soient en français\
 , anglais ou créole\, ils nous touchent par leur authenticité . Prix du 
 public au festival Off d’Avignon 2016 aux côtés de son frère danseur 
 chorégraphe\, Dyna B cumulent les talents. Silhouette fine comme une lian
 e\, minois presque encore juvénile\, chevelure afro\, Dyna B semble fragi
 le. Une fragilité apparente car elle fait partie de cette " race" d’art
 iste très déterminée.\n\nhttps://www.dynab.be/
ATTACH;FMTTYPE=image/jpeg:https://bananierbleu.fr/wp-content/uploads/2018/
 03/28577574_1936778136340616_9163367968855651448_n.png
CATEGORIES:Concerts en France
LOCATION:le Petit Bain\, 7\, port de la Gare\, Paris\, 75013\, Ile de Franc
 e\, France
GEO:48.8348;2.37712
X-APPLE-STRUCTURED-LOCATION;VALUE=URI;X-ADDRESS=7\, port de la Gare\, Paris
 \, 75013\, Ile de France\, France;X-APPLE-RADIUS=100;X-TITLE=le Petit Bain
 :geo:48.8348,2.37712
END:VEVENT
BEGIN:VTIMEZONE
TZID:Europe/Paris
X-LIC-LOCATION:Europe/Paris
BEGIN:DAYLIGHT
DTSTART:20180325T030000
TZOFFSETFROM:+0100
TZOFFSETTO:+0200
TZNAME:CEST
END:DAYLIGHT
END:VTIMEZONE
END:VCALENDAR