BEGIN:VCALENDAR
VERSION:2.0
PRODID:-//wp-events-plugin.com//7.2.3.1//EN
TZID:Europe/Paris
X-WR-TIMEZONE:Europe/Paris
BEGIN:VEVENT
UID:3105@bananierbleu.fr
DTSTART;TZID=Europe/Paris:20200206T210000
DTEND;TZID=Europe/Paris:20200206T210000
DTSTAMP:20200204T124108Z
URL:https://bananierbleu.fr/concerts-test/moonlight-benjamin-sortie-de-lal
 bum-simido/
SUMMARY:Moonlight Benjamin\, sortie de l'album Simido - Espace des Augustin
 s - 6 Fév 20 21:00
DESCRIPTION:Après Siltane sorti en 2018\, Moonlight Benjamin poursuit sa c
 ollaboration avec Matthis Pascaud et présente son nouvel album\, Simido. 
 Le Vaudou Haïtien rencontre la musique des Black Keys ou des White Stripe
 s… La puissante et inédite fusion entre les mélodies et rythmes vaudou
  de la Caraïbe\, et le blues rock US des 70’s \; le choc entre la voix 
 puissante et révoltée de Moonlight Benjamin et la tension des guitares s
 aturées. La transe vaudou sous une forme inédite et détonante !
ATTACH;FMTTYPE=image/jpeg:https://bananierbleu.fr/wp-content/uploads/2020/
 02/Moonlight-Benjamin_01.jpg
CATEGORIES:Concerts en France
LOCATION:Espace des Augustins\, 27 rue des Augustins\, Montauban\, Occitani
 e\, 82000\, Occitanie\, France
X-APPLE-STRUCTURED-LOCATION;VALUE=URI;X-ADDRESS=27 rue des Augustins\, Mont
 auban\, Occitanie\, 82000\, Occitanie\, France;X-APPLE-RADIUS=100;X-TITLE=
 Espace des Augustins:geo:0,0
END:VEVENT
BEGIN:VTIMEZONE
TZID:Europe/Paris
X-LIC-LOCATION:Europe/Paris
BEGIN:STANDARD
DTSTART:20191027T020000
TZOFFSETFROM:+0200
TZOFFSETTO:+0100
TZNAME:CET
END:STANDARD
END:VTIMEZONE
END:VCALENDAR