BEGIN:VCALENDAR
VERSION:2.0
PRODID:-//wp-events-plugin.com//7.2.3.1//EN
TZID:Europe/Paris
X-WR-TIMEZONE:Europe/Paris
BEGIN:VEVENT
UID:1785@bananierbleu.fr
DTSTART;TZID=Europe/Paris:20160521T200000
DTEND;TZID=Europe/Paris:20160521T200000
DTSTAMP:20160421T094641Z
URL:https://bananierbleu.fr/concerts-test/muyiwa-kunnuji-osemako/
SUMMARY:Muyiwa Kunnuji & Osemako - Paloma - 21 Mai 16 20:00
DESCRIPTION:Présenté par le Rotary Club :\n\nTrompettiste autodidacte\, M
 uyiwa Kunnuji a joué pendant plus de 20 ans sur la scène internationale 
 notamment avec le groupe Egypt 80 de Fela Kuti. C’est désormais au sein
  d’un nouveau projet qu’il distille une musique colorée\, mélange de
  highlife et d’afrobeat réinventant ainsi les classiques du jazz africa
 in. Ce nîmois d’adoption animera en amont un atelier de percussion pour
  enfants. Cette soirée vise non seulement à faire découvrir l’univers
  d’un artiste de talent mais aussi à soutenir l’engagement du Rotary 
 Club qui finance depuis 20 ans l’éradication de la polio dans le monde.
 \n\nLire l'article de présentation de l'album ici : Mo-Juba-O\, l'AfroCla
 ssicBeat de Muyiwa Kunnuji
ATTACH;FMTTYPE=image/jpeg:https://bananierbleu.fr/wp-content/uploads/2016/
 04/muyiwa600.jpg
CATEGORIES:Concerts en France
LOCATION:Paloma\, 250 Chemin de l'Aérodrome\, Nîmes\, 30000\, France
GEO:43.8553057;4.404629
X-APPLE-STRUCTURED-LOCATION;VALUE=URI;X-ADDRESS=250 Chemin de l'Aérodrome\
 , Nîmes\, 30000\, France;X-APPLE-RADIUS=100;X-TITLE=Paloma:geo:43.8553057
 ,4.404629
END:VEVENT
BEGIN:VTIMEZONE
TZID:Europe/Paris
X-LIC-LOCATION:Europe/Paris
BEGIN:DAYLIGHT
DTSTART:20160327T030000
TZOFFSETFROM:+0100
TZOFFSETTO:+0200
TZNAME:CEST
END:DAYLIGHT
END:VTIMEZONE
END:VCALENDAR