BEGIN:VCALENDAR
VERSION:2.0
PRODID:-//wp-events-plugin.com//7.2.3.1//EN
TZID:Europe/Paris
X-WR-TIMEZONE:Europe/Paris
BEGIN:VEVENT
UID:3127@bananierbleu.fr
DTSTART;TZID=America/Guadeloupe:20200229T203000
DTEND;TZID=America/Guadeloupe:20200229T203000
DTSTAMP:20200223T213453Z
URL:https://bananierbleu.fr/concerts-test/my-josephine/
SUMMARY:My Joséphine - Chez Henri - 29 Fév 20 20:30
DESCRIPTION:MY JOSÉPHINE - Jazz teinté de Blues\, Gospel\, Swing - avec B
 ett BETTY (Contrebasse / Chant) &amp\; Jon DA COSTA FERREIRA (Guitare)
ATTACH;FMTTYPE=image/jpeg:https://bananierbleu.fr/wp-content/uploads/2020/
 02/Aff-concert-MY-JOSEPHINE-Sam-29-fév-2020.jpg
CATEGORIES:Concerts en Guadeloupe
LOCATION:Chez Henri\, 8\, avenue des Caraïbes\, Saint Louis de Marie-Galan
 te\, Guadeloupe\, 97134\, Guadeloupe\, Guadeloupe
GEO:15.954149;-61.318902
X-APPLE-STRUCTURED-LOCATION;VALUE=URI;X-ADDRESS=8\, avenue des Caraïbes\, 
 Saint Louis de Marie-Galante\, Guadeloupe\, 97134\, Guadeloupe\, Guadeloup
 e;X-APPLE-RADIUS=100;X-TITLE=Chez Henri:geo:15.954149,-61.318902
END:VEVENT
BEGIN:VTIMEZONE
TZID:America/Guadeloupe
X-LIC-LOCATION:America/Guadeloupe
BEGIN:STANDARD
DTSTART:20190301T203000
TZOFFSETFROM:-0400
TZOFFSETTO:-0400
TZNAME:AST
END:STANDARD
END:VTIMEZONE
END:VCALENDAR