BEGIN:VCALENDAR
VERSION:2.0
PRODID:-//wp-events-plugin.com//7.2.3.1//EN
TZID:Europe/Paris
X-WR-TIMEZONE:Europe/Paris
BEGIN:VEVENT
UID:4097@bananierbleu.fr
DTSTART;TZID=America/Guadeloupe:20260313T200000
DTEND;TZID=America/Guadeloupe:20260313T200000
DTSTAMP:20260310T124338Z
URL:https://bananierbleu.fr/concerts-test/nathalie-jeanlys-sortie-de-lalbu
 m-woule/
SUMMARY:Nathalie Jeanlys - Sortie de l'album Woulé - Salle Robert Loyson -
  13 Mar 26 20:00
DESCRIPTION:Concert de sortie de l'album Woulé\n\n« WOULÉ » est un albu
 m où Gwoka\, Jazz\, et poésie créole s’entrelacent. Portés par la vo
 ix de Nathalie Jeanlys qui résonne autant par sa douceur que par sa puiss
 ance\, les textes\, s’interrogent sur la société\, l’exil\, la rési
 lience\, les violences invisibles\, l’identité\, la foi.\n« WOULÉ » 
 évoque un mouvement\, une pulsation qui pousse vers l’avant\, qui invit
 e à la résistance\, au dépassement de soi\, à la persévérance. C’e
 st suivre son propre rythme intérieur\, garder son cap\, rester confiant\
 , debout dans son identité\n\nAvec Sonny Troupé\, Jonathan Jurion et Eri
 c Delblond.
ATTACH;FMTTYPE=image/jpeg:https://bananierbleu.fr/wp-content/uploads/2026/
 03/Nathalie_Jeanlys.jpg
CATEGORIES:Concerts en Guadeloupe
LOCATION:Salle Robert Loyson\, bd Rougé\, le Moule\, Guadeloupe\, 97160\, 
 Guadeloupe\, Guadeloupe
GEO:16.331259;-61.34894299999996
X-APPLE-STRUCTURED-LOCATION;VALUE=URI;X-ADDRESS=bd Rougé\, le Moule\, Guad
 eloupe\, 97160\, Guadeloupe\, Guadeloupe;X-APPLE-RADIUS=100;X-TITLE=Salle 
 Robert Loyson:geo:16.331259,-61.34894299999996
END:VEVENT
BEGIN:VTIMEZONE
TZID:America/Guadeloupe
X-LIC-LOCATION:America/Guadeloupe
BEGIN:STANDARD
DTSTART:20250313T200000
TZOFFSETFROM:-0400
TZOFFSETTO:-0400
TZNAME:AST
END:STANDARD
END:VTIMEZONE
END:VCALENDAR