BEGIN:VCALENDAR
VERSION:2.0
PRODID:-//wp-events-plugin.com//7.2.3.1//EN
TZID:Europe/Paris
X-WR-TIMEZONE:Europe/Paris
BEGIN:VEVENT
UID:2683@bananierbleu.fr
DTSTART;TZID=America/Guadeloupe:20180824T203000
DTEND;TZID=America/Guadeloupe:20180824T203000
DTSTAMP:20180821T115526Z
URL:https://bananierbleu.fr/concerts-test/nicolas-attie-carte-blanche/
SUMMARY:Nicolas Attie "Carte Blanche" - La Créole Jazz Club - 24 Août 18 
 20:30
DESCRIPTION:La Créole Jazz Club donne Carte blanche à Nicolas Attie. Une 
 soirée dédiée au jazz instrumental autour d’un répertoire constitué
  de compositions originales\, de thèmes de Kenny Garrett et de quelques s
 tandards.\n\nNicolas Attie (guitare)\nSylvain Joseph (sax)\nFabrice Devien
 ne (Piano)\nDaniel Reimonenq (basse)\nRaymond Grégo (batterie)
ATTACH;FMTTYPE=image/jpeg:https://bananierbleu.fr/wp-content/uploads/2018/
 08/39296997_1935861856477039_7228391094008938496_n.jpg
CATEGORIES:Concerts en Guadeloupe
LOCATION:La Créole Jazz Club\, Pointe de la Verdure\, Le Gosier\, Guadelou
 pe\, 97190\, Guadeloupe\, Guadeloupe
GEO:16.206832;-61.50359980000002
X-APPLE-STRUCTURED-LOCATION;VALUE=URI;X-ADDRESS=Pointe de la Verdure\, Le G
 osier\, Guadeloupe\, 97190\, Guadeloupe\, Guadeloupe;X-APPLE-RADIUS=100;X-
 TITLE=La Créole Jazz Club:geo:16.206832,-61.50359980000002
END:VEVENT
BEGIN:VTIMEZONE
TZID:America/Guadeloupe
X-LIC-LOCATION:America/Guadeloupe
BEGIN:STANDARD
DTSTART:20170824T203000
TZOFFSETFROM:-0400
TZOFFSETTO:-0400
TZNAME:AST
END:STANDARD
END:VTIMEZONE
END:VCALENDAR