BEGIN:VCALENDAR
VERSION:2.0
PRODID:-//wp-events-plugin.com//7.2.3.1//EN
TZID:Europe/Paris
X-WR-TIMEZONE:Europe/Paris
BEGIN:VEVENT
UID:2057@bananierbleu.fr
DTSTART;TZID=Europe/Paris:20161229T200000
DTEND;TZID=Europe/Paris:20161229T200000
DTSTAMP:20161228T105353Z
URL:https://bananierbleu.fr/concerts-test/nicolas-attie-trio/
SUMMARY:Nicolas Attié trio - La Créole Jazz Club - 29 Déc 16 20:00
DESCRIPTION:Ce trio aux influences multiples vous transportera dans son uni
 vers. Cet amour pour le Jazz\, le groove et les musiques Guadeloupéennes 
 lui a permis de façonner un répertoire aux sonorités surprenantes.\n\nN
 icolas Attié &gt\; Guitare\nFabrice Fanfant &gt\; Basse\nJérôme Castry 
 &gt\; Batterie
ATTACH;FMTTYPE=image/jpeg:https://bananierbleu.fr/wp-content/uploads/2016/
 12/15724588_1290022831060948_6135989266013735773_o.jpg
CATEGORIES:Concerts en Guadeloupe
LOCATION:La Créole Jazz Club\, Pointe de la Verdure\, Le Gosier\, Guadelou
 pe\, 97190\, Guadeloupe\, Guadeloupe
GEO:16.206832;-61.50359980000002
X-APPLE-STRUCTURED-LOCATION;VALUE=URI;X-ADDRESS=Pointe de la Verdure\, Le G
 osier\, Guadeloupe\, 97190\, Guadeloupe\, Guadeloupe;X-APPLE-RADIUS=100;X-
 TITLE=La Créole Jazz Club:geo:16.206832,-61.50359980000002
END:VEVENT
BEGIN:VTIMEZONE
TZID:Europe/Paris
X-LIC-LOCATION:Europe/Paris
BEGIN:STANDARD
DTSTART:20161030T020000
TZOFFSETFROM:+0200
TZOFFSETTO:+0100
TZNAME:CET
END:STANDARD
END:VTIMEZONE
END:VCALENDAR