BEGIN:VCALENDAR
VERSION:2.0
PRODID:-//wp-events-plugin.com//7.2.3.1//EN
TZID:Europe/Paris
X-WR-TIMEZONE:Europe/Paris
BEGIN:VEVENT
UID:624@bananierbleu.fr
DTSTART;TZID=Europe/Paris:20131005T223000
DTEND;TZID=Europe/Paris:20131005T223000
DTSTAMP:20130923T111511Z
URL:https://bananierbleu.fr/concerts-test/nuit-blanche-jazz-creole-jean-ma
 rc-bellon/
SUMMARY:Nuit blanche "Jazz créole" - Jean-Marc Bellon - le Baiser Salé - 
 5 Oct 13 22:30
DESCRIPTION:SOIREE CAFE CREOLE BLUES\nJean Marc BELLON piano\, Teddy JOSEPH
  batterie\,\nArmel AHANDA voix\, Moïse Mirval basse.\nS’affranchissant 
 des étiquettes\, le laboratoire Créole Blues invite le pianiste Jean-Mar
 c Bellon. Une musique éclectique\, chaleureuse et intimiste\, entre jazz\
 , biguine et soul.
CATEGORIES:Concerts en France
LOCATION:le Baiser Salé\, 58\, rue des Lombards\, Paris\, Île de France\,
  75001\, IleDeFrance\, France
GEO:48.8598;2.34791
X-APPLE-STRUCTURED-LOCATION;VALUE=URI;X-ADDRESS=58\, rue des Lombards\, Par
 is\, Île de France\, 75001\, IleDeFrance\, France;X-APPLE-RADIUS=100;X-TI
 TLE=le Baiser Salé:geo:48.8598,2.34791
END:VEVENT
BEGIN:VTIMEZONE
TZID:Europe/Paris
X-LIC-LOCATION:Europe/Paris
BEGIN:DAYLIGHT
DTSTART:20130331T030000
TZOFFSETFROM:+0100
TZOFFSETTO:+0200
TZNAME:CEST
END:DAYLIGHT
END:VTIMEZONE
END:VCALENDAR