BEGIN:VCALENDAR
VERSION:2.0
PRODID:-//wp-events-plugin.com//7.2.3.1//EN
TZID:Europe/Paris
X-WR-TIMEZONE:Europe/Paris
BEGIN:VEVENT
UID:623@bananierbleu.fr
DTSTART;TZID=Europe/Paris:20131005T193000
DTEND;TZID=Europe/Paris:20131005T193000
DTSTAMP:20130923T111308Z
URL:https://bananierbleu.fr/concerts-test/nuit-blanche-jazz-creole-rony-ol
 anor/
SUMMARY:Nuit blanche "Jazz créole" - Rony Olanor - le Baiser Salé - 5 Oct
  13 19:30
DESCRIPTION:SOIREE CAFE CREOLE BLUES\nRony OLANOR piano\, Dominik Moïse MI
 RVAL basse/batterie\, Harry DIBOULA voix.\nImaginé par Pierre-Édouard D
 écimus (à l’origine de l’histoire du zouk et de Kassav)\, le Café C
 réole Blues appelle à la rencontre des évidences\, quand l’inconnue s
 e fait richesse pour transcender les différences. Un recueil de musiques 
 pour aller vers l’autre. Une philosophie artistique et culturelle pour c
 réer les conditions de l’échange. Un répertoire qui se joue des codif
 ications\, contourne les genres et croise les styles. Une musique métiss
 ée autour de grands classiques jazz\, pop et zouk\, mais pas seulement ! 
CATEGORIES:Concerts en France
LOCATION:le Baiser Salé\, 58\, rue des Lombards\, Paris\, Île de France\,
  75001\, IleDeFrance\, France
GEO:48.8598;2.34791
X-APPLE-STRUCTURED-LOCATION;VALUE=URI;X-ADDRESS=58\, rue des Lombards\, Par
 is\, Île de France\, 75001\, IleDeFrance\, France;X-APPLE-RADIUS=100;X-TI
 TLE=le Baiser Salé:geo:48.8598,2.34791
END:VEVENT
BEGIN:VTIMEZONE
TZID:Europe/Paris
X-LIC-LOCATION:Europe/Paris
BEGIN:DAYLIGHT
DTSTART:20130331T030000
TZOFFSETFROM:+0100
TZOFFSETTO:+0200
TZNAME:CEST
END:DAYLIGHT
END:VTIMEZONE
END:VCALENDAR