BEGIN:VCALENDAR
VERSION:2.0
PRODID:-//wp-events-plugin.com//7.2.3.1//EN
TZID:Europe/Paris
X-WR-TIMEZONE:Europe/Paris
BEGIN:VEVENT
UID:441@bananierbleu.fr
DTSTART;TZID=Europe/Paris:20130405T200000
DTEND;TZID=Europe/Paris:20130405T200000
DTSTAMP:20130320T203116Z
URL:https://bananierbleu.fr/concerts-test/paco-sery-group-the-real-life-to
 ur/
SUMMARY:Paco Séry group / the Real Life tour - New Morning - 5 Avr 13 20:0
 0
DESCRIPTION:Un groupe de feu\, d'énergie\, de rythme\, d'explosion de coul
 eurs\, d'Afrique\, de Funk\, de Jazz\, de Hip-Hop\, de R&B : du 'gros grab
 uge' servie par un 'gang' de pointures venues de tous les horizons et orga
 nisées à la pâte Paco Sery en maitre arrangeur\, qui brouille les carte
 s\, et surtout\, qui groove !\n\n"Multi-intrumentiste ouvert à toutes les
  cultures. [...] Il voyage entre le funk urbain\, la chanson africaine\, l
 e rythme'n'blues et les tourneries à la Weather Report\, en ne restant pr
 isonnier d'aucun style"\nJAZZ MAGAZINE / JAZZMAN\n\n"Seules qualités : la
  perfection\, l'exactitude\, l'oublie de soi et la virtuosité. Musique 'S
 éryrielle'\, unique\, stimulante\, gaie"\nLE MONDE\n
CATEGORIES:Concerts en France
LOCATION:New Morning\, 7-9 rue des Petites Ecuries\, Paris\, Île de France
 \, 75010\, IleDeFrance\, France
GEO:48.8732;2.35323
X-APPLE-STRUCTURED-LOCATION;VALUE=URI;X-ADDRESS=7-9 rue des Petites Ecuries
 \, Paris\, Île de France\, 75010\, IleDeFrance\, France;X-APPLE-RADIUS=10
 0;X-TITLE=New Morning:geo:48.8732,2.35323
END:VEVENT
BEGIN:VTIMEZONE
TZID:Europe/Paris
X-LIC-LOCATION:Europe/Paris
BEGIN:DAYLIGHT
DTSTART:20130331T030000
TZOFFSETFROM:+0100
TZOFFSETTO:+0200
TZNAME:CEST
END:DAYLIGHT
END:VTIMEZONE
END:VCALENDAR