BEGIN:VCALENDAR
VERSION:2.0
PRODID:-//wp-events-plugin.com//7.2.3.1//EN
TZID:Europe/Paris
X-WR-TIMEZONE:Europe/Paris
BEGIN:VEVENT
UID:394@bananierbleu.fr
DTSTART;TZID=Europe/Paris:20130125T200000
DTEND;TZID=Europe/Paris:20130125T230000
DTSTAMP:20130120T205224Z
URL:https://bananierbleu.fr/concerts-test/paco-sery-group/
SUMMARY:Paco Séry group - le Hangar - 25 Jan 13 20:00
DESCRIPTION:Paco Sery aura donné tout son talent aux musiciens les plus il
 lustres dont les emblématiques Jaco Pastorius et Joe Zawinul.\n\nDe ses m
 ultiples collaborations il aura hérité de la réputation d'un des plus g
 rands batteurs du monde. Consécration aujourd'hui son propre combo et "Th
 e Real Life"\, un album de feu\, d'énergie\, de rythmes\, d'explosions de
  couleurs\, d'Afrique\, de Funk\, de Jazz\, de Hip Hop\, de R&B voire de c
 lin-d'œil Disco \; du "gros grabuge" servi par un "gang" de pointures ven
 ues de tous horizons et organisé à la pâte Paco Sery en maître arrange
 ur\, qui brouille les cartes\, et surtout\, qui groove !\n\nLa vraie vie d
 e Paco Sery ? Rythmes endiablés et pulsations assurées sur la scène du 
 Hangar !
CATEGORIES:Concerts en France
LOCATION:le Hangar\, 3-5\, rue Raspail\, Ivry sur Seine\, 94200\, France
GEO:48.8112654;2.38770420000003
X-APPLE-STRUCTURED-LOCATION;VALUE=URI;X-ADDRESS=3-5\, rue Raspail\, Ivry su
 r Seine\, 94200\, France;X-APPLE-RADIUS=100;X-TITLE=le Hangar:geo:48.81126
 54,2.38770420000003
END:VEVENT
BEGIN:VTIMEZONE
TZID:Europe/Paris
X-LIC-LOCATION:Europe/Paris
BEGIN:STANDARD
DTSTART:20121028T020000
TZOFFSETFROM:+0200
TZOFFSETTO:+0100
TZNAME:CET
END:STANDARD
END:VTIMEZONE
END:VCALENDAR