BEGIN:VCALENDAR
VERSION:2.0
PRODID:-//wp-events-plugin.com//7.2.3.1//EN
TZID:Europe/Paris
X-WR-TIMEZONE:Europe/Paris
BEGIN:VEVENT
UID:3685@bananierbleu.fr
DTSTART;TZID=Europe/Paris:20231124T193000
DTEND;TZID=Europe/Paris:20231124T233000
DTSTAMP:20230922T155713Z
URL:https://bananierbleu.fr/concerts-test/palissotrio-invite-ricardo-izqui
 erdo/
SUMMARY:Palisso'Trio Invite Ricardo Izquierdo - le Baiser Salé - 24 Nov 23
  19:30
DESCRIPTION:Renaud Palisseaux piano\, Ricardo Izquierdo sax tenor\, Juan-Se
 bastien Jimenez cbasse\, Laurent Locuratolo batterie\n\nD’un tempéramen
 t dynamique et enjoué\, le jazz de Renaud Palisseaux ne résiste pas long
 temps aux rythmes festifs et envoûtants de la musique afro-cubaine. Dans 
 l'alcôve d'une discographie de grande qualité\, on peut y apprécier tan
 t ses talents d'interprète que de compositeur\, où sont exploitées mél
 odie\, énergie et inventivité. Pour ce projet résolument « Latin Jazz
  »\, le Palisso’Trio s’offre la venue du saxophoniste de renom\, Ric
 ardo Izquierdo. En quartet\, ils interprètent un répertoire original jaz
 z (inspiré par Kenny Werner\, Chick Corea...) en le mêlant à la traditi
 on afro-cubaine.\n\nAprès une solide formation musicale en jazz à l’Am
 erican School of Paris\, Manhattan School of New York\, Bill Evans Academy
  Paris et en musique afro-cubaine à l’Ecole Nationale Des Arts de La Ha
 vane\, Renaud Palisseaux a gravi la scène européenne et internationale a
 ux côtés de Orlando Poleo\, Georges Paczynski\, Felipe Cabrera\, Chico e
 t les Gipsy.\n\nRéservations à 19h30 ou 21h30 : https://www.lebaisersale
 .com/agenda?event=20231124
ATTACH;FMTTYPE=image/jpeg:https://bananierbleu.fr/wp-content/uploads/2023/
 09/Ricardo-Izaquierdo.jpg
CATEGORIES:Concerts en France
LOCATION:le Baiser Salé\, 58\, rue des Lombards\, Paris\, Île de France\,
  75001\, IleDeFrance\, France
GEO:48.8598;2.34791
X-APPLE-STRUCTURED-LOCATION;VALUE=URI;X-ADDRESS=58\, rue des Lombards\, Par
 is\, Île de France\, 75001\, IleDeFrance\, France;X-APPLE-RADIUS=100;X-TI
 TLE=le Baiser Salé:geo:48.8598,2.34791
END:VEVENT
BEGIN:VTIMEZONE
TZID:Europe/Paris
X-LIC-LOCATION:Europe/Paris
BEGIN:STANDARD
DTSTART:20231029T020000
TZOFFSETFROM:+0200
TZOFFSETTO:+0100
TZNAME:CET
END:STANDARD
END:VTIMEZONE
END:VCALENDAR