BEGIN:VCALENDAR
VERSION:2.0
PRODID:-//wp-events-plugin.com//7.2.3.1//EN
TZID:Europe/Paris
X-WR-TIMEZONE:Europe/Paris
BEGIN:VEVENT
UID:3806@bananierbleu.fr
DTSTART;TZID=America/Guadeloupe:20240420T200000
DTEND;TZID=America/Guadeloupe:20240420T200000
DTSTAMP:20240415T101225Z
URL:https://bananierbleu.fr/concerts-test/pani-diez-4tet/
SUMMARY:Pani Diez 4tet - Chez Henri - 20 Avr 24 20:00
DESCRIPTION:Raymond D’HUY Basse / Jonathan JURION Piano / Raymond GREGO B
 atterie / Sylvain JOSEPH Saxophone\nLe groupe PANI DIEZ\, composé de musi
 ciens chevronnés de la scène\, offre une fusion entre la Biguine et le j
 azz. Leurs années d'expérience individuelle se conjuguent dans un mélan
 ge harmonieux\, créant une atmosphère musicale envoûtante où le rythme
  Biguine se marie parfaitement avec l'improvisation et la sophistication d
 u jazz. Attendez-vous à un spectacle captivant et dynamique où chaque mu
 sicien apporte sa propre touche distinctive\, résultant en une expérienc
 e unique et inoubliable.
ATTACH;FMTTYPE=image/jpeg:https://bananierbleu.fr/wp-content/uploads/2024/
 04/PANI_DIEZ_4tet.jpg
CATEGORIES:Concerts en Guadeloupe
LOCATION:Chez Henri\, 8\, avenue des Caraïbes\, Saint Louis de Marie-Galan
 te\, Guadeloupe\, 97134\, Guadeloupe\, Guadeloupe
GEO:15.954149;-61.318902
X-APPLE-STRUCTURED-LOCATION;VALUE=URI;X-ADDRESS=8\, avenue des Caraïbes\, 
 Saint Louis de Marie-Galante\, Guadeloupe\, 97134\, Guadeloupe\, Guadeloup
 e;X-APPLE-RADIUS=100;X-TITLE=Chez Henri:geo:15.954149,-61.318902
END:VEVENT
BEGIN:VTIMEZONE
TZID:America/Guadeloupe
X-LIC-LOCATION:America/Guadeloupe
BEGIN:STANDARD
DTSTART:20230421T200000
TZOFFSETFROM:-0400
TZOFFSETTO:-0400
TZNAME:AST
END:STANDARD
END:VTIMEZONE
END:VCALENDAR