BEGIN:VCALENDAR
VERSION:2.0
PRODID:-//wp-events-plugin.com//7.2.3.1//EN
TZID:Europe/Paris
X-WR-TIMEZONE:Europe/Paris
BEGIN:VEVENT
UID:1516@bananierbleu.fr
DTSTART;TZID=Europe/Paris:20151023T213000
DTEND;TZID=Europe/Paris:20151023T213000
DTSTAMP:20150923T200123Z
URL:https://bananierbleu.fr/concerts-test/patrick-bebey-quintet/
SUMMARY:Patrick Bebey Quintet - le Baiser Salé - 23 Oct 15 21:30
DESCRIPTION:Dans le cadre du « Festival Jazz sur Seine » #4\n\n\nLuiz Au
 gusto Cavani batterie\, Line Kruse violon\, Abraham Mansfarroll « Manfa
  » percus\, Marc Bertaux basse\, Patrick Bebey piano/sanza/flûte pygmé
 e/voix\n\nMusicien aux multiples talents\, Patrick Bebey a étudié la mus
 ique classique au conservatoire à Paris \, ainsi que le jazz\, la musique
  brésilienne et la musique africaine. Ill a fondé son propre groupe à P
 aris en 1983 . Il a aussi  accompagné son père Francis Bebey\, célèb
 re musicien camerounais\, disparu en 2001. Pianiste hors pair\, Patrick Be
 bey mêle subtilement jazz\, rythmes brésiliens et africains. Et défend 
 avec force le patrimoine pygmée. Très recherché des stars africaines in
 ternationales\, notamment Papa Wemba et Miriam Makeba\, ill a collaboré a
 ussi avec Pierre Vassiliu\, Mory Kante\, Charlelie Couture et bien d'autre
 s. Son disque Oa na mba\, sorti en 2010 est un hommage à son père . Entr
 e  tradition africaine et jazz \, la transmission est assurée.
ATTACH;FMTTYPE=image/jpeg:https://bananierbleu.fr/wp-content/uploads/2015/
 09/Patrick-Bebey-piano-18-10-13.jpg
CATEGORIES:Concerts en France
LOCATION:le Baiser Salé\, 58\, rue des Lombards\, Paris\, Île de France\,
  75001\, IleDeFrance\, France
GEO:48.8598;2.34791
X-APPLE-STRUCTURED-LOCATION;VALUE=URI;X-ADDRESS=58\, rue des Lombards\, Par
 is\, Île de France\, 75001\, IleDeFrance\, France;X-APPLE-RADIUS=100;X-TI
 TLE=le Baiser Salé:geo:48.8598,2.34791
END:VEVENT
BEGIN:VTIMEZONE
TZID:Europe/Paris
X-LIC-LOCATION:Europe/Paris
BEGIN:DAYLIGHT
DTSTART:20150329T030000
TZOFFSETFROM:+0100
TZOFFSETTO:+0200
TZNAME:CEST
END:DAYLIGHT
END:VTIMEZONE
END:VCALENDAR