BEGIN:VCALENDAR
VERSION:2.0
PRODID:-//wp-events-plugin.com//7.2.3.1//EN
TZID:Europe/Paris
X-WR-TIMEZONE:Europe/Paris
BEGIN:VEVENT
UID:2984@bananierbleu.fr
DTSTART;TZID=Europe/Paris:20191013T170000
DTEND;TZID=Europe/Paris:20191013T170000
DTSTAMP:20190911T094121Z
URL:https://bananierbleu.fr/concerts-test/potomitan-de-yann-clery-et-yanni
 ck-theolade-mario-canonge/
SUMMARY:Potomitan de Yann Cléry et Yannick Théolade + Mario Canonge - Esp
 ace Renaudie - 13 Oct 19 17:00
DESCRIPTION:FESTIVAL VILLES DES MUSIQUES DU MONDE 2019\nNOS AMÉRIQUES - 22
 e ÉDITION\n\nEn partenariat avec Le Mois Kréyol de la Cie Dife Kako.\n\n
 ? AU PROGRAMME ?\n\nPotomitan de Yann Cléry + Mario Canonge\nProjet aprè
 s projet\, le flûtiste Yann Cléry affine le portrait qu'il dresse de sa 
 Guyane natale. Ce gigantesque pan d'Amazonie dévolu à la France\, irrigu
 é par les cultures créoles et amérindiennes\, lui inspire un nouveau sp
 ectacle. Son centre\, son « potomitan »\, est le djokan\, un art martial
  récent mais déjà reconnu comme « patrimoine de la Guyane »\, compara
 ble par ses aspects musicaux à la capoeira brésilienne. Autour de son in
 venteur\, Yannick Théolade\, Yann Cléry a réuni plusieurs percussionnis
 tes\, un conteur capable de s'exprimer dans toutes les langues et dialecte
 s de la région\, le saxophoniste Rodolphe Lauretta et le DJ Franck Othily
 . Pour cette date au festival Villes des Musiques du Monde\, le pianiste m
 artiniquais Mario Canonge grimpera exceptionnellement à bord. Au bout du 
 fleuve de notes fluides et vibrantes dessiné par le flûtiste : l’ident
 ité guyanaise...\n\n? https://www.facebook.com/yanncleryproject/\n? http:
 //yannclery.com\n\n? https://www.facebook.com/mariocanonge/\n? https://you
 tu.be/TRr3o8Ze_cM\n\n? BILLETTERIE\n? Liens Weezevent : https://bit.ly/2lD
 h7vT\n? Liens Fnac : https://bit.ly/2m3ocX3\n? www.villesdesmusiquesdumond
 e.com\n\n? VILLES DES MUSIQUES DU MONDE ?\nDu 12 octobre au 11 novembre 20
 19\n?www.villesdesmusiquesdumonde.com\n?01 48 36 34 02
ATTACH;FMTTYPE=image/jpeg:https://bananierbleu.fr/wp-content/uploads/2019/
 09/70475304_2325913101053566_7833713262037303296_o.jpg
CATEGORIES:Concerts en France
LOCATION:Espace Renaudie\, 30 Rue Lopez et Jules Martin\, Aubervilliers\, I
 le de France\, 93300\, IleDeFrance\, France
X-APPLE-STRUCTURED-LOCATION;VALUE=URI;X-ADDRESS=30 Rue Lopez et Jules Marti
 n\, Aubervilliers\, Ile de France\, 93300\, IleDeFrance\, France;X-APPLE-R
 ADIUS=100;X-TITLE=Espace Renaudie:geo:0,0
END:VEVENT
BEGIN:VTIMEZONE
TZID:Europe/Paris
X-LIC-LOCATION:Europe/Paris
BEGIN:DAYLIGHT
DTSTART:20190331T030000
TZOFFSETFROM:+0100
TZOFFSETTO:+0200
TZNAME:CEST
END:DAYLIGHT
END:VTIMEZONE
END:VCALENDAR