BEGIN:VCALENDAR
VERSION:2.0
PRODID:-//wp-events-plugin.com//7.2.3.1//EN
TZID:Europe/Paris
X-WR-TIMEZONE:Europe/Paris
BEGIN:VEVENT
UID:341@bananierbleu.fr
DTSTART;TZID=Europe/Paris:20121116T200000
DTEND;TZID=Europe/Paris:20121116T223000
DTSTAMP:20121116T090234Z
URL:https://bananierbleu.fr/concerts-test/project-trio/
SUMMARY:Project Trio - O3Sens Rest Ô Baw - 16 Nov 12 20:00
DESCRIPTION:Avec Rudy LEVALOIS (guitare)\, Joël TARET (basse)\, Gérald BO
 N (drums) et en invité Patrick VABRET (guitare).
CATEGORIES:Concerts en Guadeloupe
LOCATION:O3Sens Rest Ô Baw\, Z.I. Jarry - Impasse Augustin Fresnel\, Baie-
 Mahault\, Guadeloupe\, 97122\, Guadeloupe\, Guadeloupe
GEO:16.244907;-61.56368199999997
X-APPLE-STRUCTURED-LOCATION;VALUE=URI;X-ADDRESS=Z.I. Jarry - Impasse August
 in Fresnel\, Baie-Mahault\, Guadeloupe\, 97122\, Guadeloupe\, Guadeloupe;X
 -APPLE-RADIUS=100;X-TITLE=O3Sens Rest Ô Baw:geo:16.244907,-61.56368199999
 997
END:VEVENT
BEGIN:VTIMEZONE
TZID:Europe/Paris
X-LIC-LOCATION:Europe/Paris
BEGIN:STANDARD
DTSTART:20121028T020000
TZOFFSETFROM:+0200
TZOFFSETTO:+0100
TZNAME:CET
END:STANDARD
END:VTIMEZONE
END:VCALENDAR