BEGIN:VCALENDAR
VERSION:2.0
PRODID:-//wp-events-plugin.com//7.2.3.1//EN
TZID:Europe/Paris
X-WR-TIMEZONE:Europe/Paris
BEGIN:VEVENT
UID:927@bananierbleu.fr
DTSTART;TZID=Europe/Paris:20140626T213000
DTEND;TZID=Europe/Paris:20140626T213000
DTSTAMP:20140624T132011Z
URL:https://bananierbleu.fr/concerts-test/ralph-lavital-group-2/
SUMMARY:Ralph Lavital group - Swan Bar - 26 Juin 14 21:30
DESCRIPTION:C'est à 21H30! pour 10 euros\n\nRalph Lavital – guitare \;\n
 Nicolas Pelage – voix\nJonathan Jurion – piano\nZacharie Abraham – c
 .basse\nArnaud Dolmen – batterie\n\nC'est à 21H30! pour 10 euros??? ça
  va non?\n\n165 bd du Montparnasse\n75006 Paris\n\nM : Vavin ou RER : Port
  Royal\n\nVenez Venez !\n\nà bientôt!
ATTACH;FMTTYPE=image/jpeg:https://bananierbleu.fr/wp-content/uploads/2014/
 06/ralphlavital400.jpg
CATEGORIES:Concerts en France
LOCATION:Swan Bar\, 165\, bd du Montparnasse\, Paris\, 75006\, Ile de Franc
 e\, France
GEO:48.8412878;2.331932199999983
X-APPLE-STRUCTURED-LOCATION;VALUE=URI;X-ADDRESS=165\, bd du Montparnasse\, 
 Paris\, 75006\, Ile de France\, France;X-APPLE-RADIUS=100;X-TITLE=Swan Bar
 :geo:48.8412878,2.331932199999983
END:VEVENT
BEGIN:VTIMEZONE
TZID:Europe/Paris
X-LIC-LOCATION:Europe/Paris
BEGIN:DAYLIGHT
DTSTART:20140330T030000
TZOFFSETFROM:+0100
TZOFFSETTO:+0200
TZNAME:CEST
END:DAYLIGHT
END:VTIMEZONE
END:VCALENDAR