BEGIN:VCALENDAR
VERSION:2.0
PRODID:-//wp-events-plugin.com//7.2.3.1//EN
TZID:Europe/Paris
X-WR-TIMEZONE:Europe/Paris
BEGIN:VEVENT
UID:2432@bananierbleu.fr
DTSTART;TZID=Europe/Paris:20171107T190000
DTEND;TZID=Europe/Paris:20171107T190000
DTSTAMP:20171101T144107Z
URL:https://bananierbleu.fr/concerts-test/ralph-lavital-invite-maureen-ang
 ot/
SUMMARY:Ralph Lavital invite Maureen Angot - le Baiser Salé - 7 Nov 17 19:
 00
DESCRIPTION:\n\nLe guitariste et chanteur Ralph Lavital est un habitué du 
 club de la rue des Lombards. ll intègre dans son esthétisme musical les 
 différentes cultures qu’il apprivoise à travers son éducation et ses 
 expériences musicales. En phase avec le jazz issu de la nouvelle généra
 tion de jazzmen new-yorkais\, on retrouve chez Ralph Lavital le goût de l
 ’improvisation\, de l’harmonie et la ferveur d’un vrai passionné. I
 l invite l'incroyable&nbsp\;chanteuse Maureen Angot\, dont&nbsp\;Nougaro\,
  Françoise Hardy\, Michel Berger\, sont ses plumes de lumière\, ceux qui
  ont de la poésie dans le cœur.\n\n
ATTACH;FMTTYPE=image/jpeg:https://bananierbleu.fr/wp-content/uploads/2017/
 11/8rls.jpeg
CATEGORIES:Concerts en France
LOCATION:le Baiser Salé\, 58\, rue des Lombards\, Paris\, Île de France\,
  75001\, IleDeFrance\, France
GEO:48.8598;2.34791
X-APPLE-STRUCTURED-LOCATION;VALUE=URI;X-ADDRESS=58\, rue des Lombards\, Par
 is\, Île de France\, 75001\, IleDeFrance\, France;X-APPLE-RADIUS=100;X-TI
 TLE=le Baiser Salé:geo:48.8598,2.34791
END:VEVENT
BEGIN:VTIMEZONE
TZID:Europe/Paris
X-LIC-LOCATION:Europe/Paris
BEGIN:STANDARD
DTSTART:20171029T020000
TZOFFSETFROM:+0200
TZOFFSETTO:+0100
TZNAME:CET
END:STANDARD
END:VTIMEZONE
END:VCALENDAR