BEGIN:VCALENDAR
VERSION:2.0
PRODID:-//wp-events-plugin.com//7.2.3.1//EN
TZID:Europe/Paris
X-WR-TIMEZONE:Europe/Paris
BEGIN:VEVENT
UID:2355@bananierbleu.fr
DTSTART;TZID=Europe/Paris:20170905T190000
DTEND;TZID=Europe/Paris:20170905T190000
DTSTAMP:20170827T105354Z
URL:https://bananierbleu.fr/concerts-test/ralph-lavital-invite-nkia-asong/
SUMMARY:Ralph Lavital invite Nkia Asong - le Baiser Salé - 5 Sep 17 19:00
DESCRIPTION:Une personnalité rayonnante et une voix enchanteresse\, défin
 issent Nkia. Elle a notamment travaillé avec Ben l'Oncle Soul\, Akua Naru
 \, Gene Noble\, Patrice ou encore pour The Aikiu. Elle est l’invitée de
  Ralph Lavital pour sa première date de résidence au Baiser Salé. Le gu
 itariste et chanteur Ralph Lavital est un habitué du club de la rue des L
 ombards. ll intègre dans son esthétisme musical les différentes culture
 s qu’il apprivoise à travers son éducation et ses expériences musical
 es. En phase avec le jazz issu de la nouvelle génération de jazzmen new-
 yorkais\, on retrouve chez Ralph Lavital le goût de l’improvisation\, d
 e l’harmonie et la ferveur d’un vrai passionné.
ATTACH;FMTTYPE=image/jpeg:https://bananierbleu.fr/wp-content/uploads/2017/
 08/7y5u.jpeg
LOCATION:le Baiser Salé\, 58\, rue des Lombards\, Paris\, Île de France\,
  75001\, IleDeFrance\, France
GEO:48.8598;2.34791
X-APPLE-STRUCTURED-LOCATION;VALUE=URI;X-ADDRESS=58\, rue des Lombards\, Par
 is\, Île de France\, 75001\, IleDeFrance\, France;X-APPLE-RADIUS=100;X-TI
 TLE=le Baiser Salé:geo:48.8598,2.34791
END:VEVENT
BEGIN:VTIMEZONE
TZID:Europe/Paris
X-LIC-LOCATION:Europe/Paris
BEGIN:DAYLIGHT
DTSTART:20170326T030000
TZOFFSETFROM:+0100
TZOFFSETTO:+0200
TZNAME:CEST
END:DAYLIGHT
END:VTIMEZONE
END:VCALENDAR