BEGIN:VCALENDAR
VERSION:2.0
PRODID:-//wp-events-plugin.com//7.2.3.1//EN
TZID:Europe/Paris
X-WR-TIMEZONE:Europe/Paris
BEGIN:VEVENT
UID:2688@bananierbleu.fr
DTSTART;TZID=America/Martinique:20180825T150000
DTEND;TZID=America/Martinique:20180825T150000
DTSTAMP:20180824T090620Z
URL:https://bananierbleu.fr/concerts-test/ralph-lavital-nicolas-lossen-qua
 rtet/
SUMMARY:Ralph Lavital & Nicolas Lossen quartet - Jazz à la Pointe - 25 Ao
 ût 18 15:00
DESCRIPTION:Jazz à la Pointe (25/8)\nCe week-end\, en clôture de la saiso
 n de Jazz à la Pointe\, nous vous invitons à une journée bien particuli
 ère !\nNous accueillons la délégation de la culture Kalinago de notre 
 île soeur\, la Dominique. Ils viendront nous présenter leur culture et l
 eurs savoir-faire tout au long de plusieurs ateliers ouverts à toutes et 
 à tous.\nL'après-midi\, un concert exceptionnel entre deux voix et deux 
 guitares caribéennes : Ralph Lavital et Nicolas Lossen en 4tet !\nSamedi 
 25 août :: dès 10h :: Plage De La Pointe Faula\, Vauclin 
ATTACH;FMTTYPE=image/jpeg:https://bananierbleu.fr/wp-content/uploads/2018/
 08/index.jpg
CATEGORIES:Concerts en Martinique
LOCATION:Jazz à la Pointe\, Plage de la Pointe Faula\, Le Vauclin\, Martin
 ique\, Martinique\, Martinique
GEO:14.5416994;-60.82886480000002
X-APPLE-STRUCTURED-LOCATION;VALUE=URI;X-ADDRESS=Plage de la Pointe Faula\, 
 Le Vauclin\, Martinique\, Martinique\, Martinique;X-APPLE-RADIUS=100;X-TIT
 LE=Jazz à la Pointe:geo:14.5416994,-60.82886480000002
END:VEVENT
BEGIN:VTIMEZONE
TZID:America/Martinique
X-LIC-LOCATION:America/Martinique
BEGIN:STANDARD
DTSTART:20170825T150000
TZOFFSETFROM:-0400
TZOFFSETTO:-0400
TZNAME:AST
END:STANDARD
END:VTIMEZONE
END:VCALENDAR