BEGIN:VCALENDAR
VERSION:2.0
PRODID:-//wp-events-plugin.com//7.2.3.1//EN
TZID:Europe/Paris
X-WR-TIMEZONE:Europe/Paris
BEGIN:VEVENT
UID:2181@bananierbleu.fr
DTSTART;TZID=Europe/Paris:20170404T190000
DTEND;TZID=Europe/Paris:20170404T190000
DTSTAMP:20170401T114025Z
URL:https://bananierbleu.fr/concerts-test/ralph-lavital-the-keeys-3/
SUMMARY:Ralph Lavital & the Keeys - le Baiser Salé - 4 Avr 17 19:00
DESCRIPTION:Ralph Lavital (g)\, Wendy Milton (keys)\, Gwen Ladeux (b)\, Mat
 hieu Edward (dms)\n\nThe Keeys façonne un son aux harmonies sophistiquée
 s\, teinté de pop et ouvert sur l’électro. Nkia Asong et Dani Bumba &n
 bsp\;viendront ajouter leurs voix pour un melting pot musical unique !
ATTACH;FMTTYPE=image/jpeg:https://bananierbleu.fr/wp-content/uploads/2017/
 04/ralphlavital.png
LOCATION:le Baiser Salé\, 58\, rue des Lombards\, Paris\, Île de France\,
  75001\, IleDeFrance\, France
GEO:48.8598;2.34791
X-APPLE-STRUCTURED-LOCATION;VALUE=URI;X-ADDRESS=58\, rue des Lombards\, Par
 is\, Île de France\, 75001\, IleDeFrance\, France;X-APPLE-RADIUS=100;X-TI
 TLE=le Baiser Salé:geo:48.8598,2.34791
END:VEVENT
BEGIN:VTIMEZONE
TZID:Europe/Paris
X-LIC-LOCATION:Europe/Paris
BEGIN:DAYLIGHT
DTSTART:20170326T030000
TZOFFSETFROM:+0100
TZOFFSETTO:+0200
TZNAME:CEST
END:DAYLIGHT
END:VTIMEZONE
END:VCALENDAR