BEGIN:VCALENDAR
VERSION:2.0
PRODID:-//wp-events-plugin.com//7.2.3.1//EN
TZID:Europe/Paris
X-WR-TIMEZONE:Europe/Paris
BEGIN:VEVENT
UID:9@bananierbleu.fr
DTSTART;TZID=Europe/Paris:20111117T200000
DTEND;TZID=Europe/Paris:20111117T220000
DTSTAMP:20120103T133829Z
URL:https://bananierbleu.fr/concerts-test/raul-midon/
SUMMARY:Raul Midon - LaKaza - 17 Nov 11 20:00
DESCRIPTION:Raul Midón est un chanteur\, auteur-compositeur et guitariste 
 américain originaire du Nouveau-Mexique (États-Unis) mais résidant à N
 ew York. Son style musical unique brasse de nombreuses influences\, aussi 
 bien soul que jazz\, folk\, blues\, R&B ou musiques latines (flamenco et b
 ossa nova notamment).\n\nSes morceaux\, enregistrés en anglais ou en espa
 gnol\, sont à base de prouesses vocales hors-norme (reproduisant parfois 
 les sons d'instruments avec sa bouche)\, d'une excellente technique de str
 umming et d'un son a cappella\, qui en font un artiste complet\, et ce en 
 dépit de sa cécité. Il a collaboré avec des musiciens venus d'horizons
  très divers\, de Herbie Hancock à Snoop Dogg.\n\nRaul Midón est né pr
 ématurément dans un hôpital rural à Embudo\, au Nouveau-Mexique (État
 s-Unis) de parents d'origines argentine et afro-américaine. Son père ét
 ait un danseur argentin. Raul et son frère jumeau Marco (aujourd'hui ing
 énieur à la NASA) sont devenus aveugles dès leurs premiers jours après
  avoir été dans un incubateur sans aucune protection adéquate pour leur
 s yeux.\n\nLa musique est devenue partie intégrante de la vie de Raul dè
 s l'âge de quatre ans\, quand son père lui a fait découvrir la batterie
 . Raul est alors devenu un passionné de musique et a appris à jouer de l
 a guitare tout en suivant parallèlement un programme d'éducation très s
 trict\, tout d'abord à l'école pour nonvoyants puis à la renommée acad
 émie de Santa Fe. Il a ensuite suivi les cours de l'université de Miami\
 , qu'il a choisie pour son prestigieux curriculum jazz.
CATEGORIES:Concerts en Guadeloupe
LOCATION:LaKaza\, rue Thomas Edison\, Baie-Mahault\, Guadeloupe\, 97122\, G
 uadeloupe\, France
GEO:16.253401;-61.565601
X-APPLE-STRUCTURED-LOCATION;VALUE=URI;X-ADDRESS=rue Thomas Edison\, Baie-Ma
 hault\, Guadeloupe\, 97122\, Guadeloupe\, France;X-APPLE-RADIUS=100;X-TITL
 E=LaKaza:geo:16.253401,-61.565601
END:VEVENT
BEGIN:VTIMEZONE
TZID:Europe/Paris
X-LIC-LOCATION:Europe/Paris
BEGIN:STANDARD
DTSTART:20111030T020000
TZOFFSETFROM:+0200
TZOFFSETTO:+0100
TZNAME:CET
END:STANDARD
END:VTIMEZONE
END:VCALENDAR