BEGIN:VCALENDAR
VERSION:2.0
PRODID:-//wp-events-plugin.com//7.2.3.1//EN
TZID:Europe/Paris
X-WR-TIMEZONE:Europe/Paris
BEGIN:VEVENT
UID:4080@bananierbleu.fr
DTSTART;TZID=Europe/Paris:20260403T203000
DTEND;TZID=Europe/Paris:20260403T203000
DTSTAMP:20260124T083219Z
URL:https://bananierbleu.fr/concerts-test/ray-lema-ensemble-partage/
SUMMARY:Ray Lema & Ensemble Partage - Studio de l'Ermitage - 3 Avr 26 20:30
DESCRIPTION:\n 	Personnel : Massimiliano Gilli (1er violon)\, Sylvie Blanc 
 (2e violon)\, Gerardo Vitale (violon alto)\, Claudia Ravetto (violoncelle)
 \, Manuel Pramotton (saxophone soprano)\, Marco Giovinazzo (percussions)\,
  Ray Lema (piano\, voix)\n 	Présentation : Ce concert célèbre la sortie
  de l'album "Passion Congo" et les 80 ans de Ray Lema\, artiste emblémati
 que des musiques du monde. L'événement met en avant sa capacité à fusi
 onner les traditions musicales africaines et européennes\, avec un ensemb
 le de six musiciens italiens.\n
ATTACH;FMTTYPE=image/jpeg:https://bananierbleu.fr/wp-content/uploads/2026/
 01/ray-lema-ensemble-partage.png
CATEGORIES:Concerts en France
LOCATION:Studio de l'Ermitage\, 8 rue de l'Ermitage\, Paris\, Île de Franc
 e\, 75020\, IleDeFrance\, France
GEO:48.8699616;2.3915835000000243
X-APPLE-STRUCTURED-LOCATION;VALUE=URI;X-ADDRESS=8 rue de l'Ermitage\, Paris
 \, Île de France\, 75020\, IleDeFrance\, France;X-APPLE-RADIUS=100;X-TITL
 E=Studio de l'Ermitage:geo:48.8699616,2.3915835000000243
END:VEVENT
BEGIN:VTIMEZONE
TZID:Europe/Paris
X-LIC-LOCATION:Europe/Paris
BEGIN:DAYLIGHT
DTSTART:20260329T030000
TZOFFSETFROM:+0100
TZOFFSETTO:+0200
TZNAME:CEST
END:DAYLIGHT
END:VTIMEZONE
END:VCALENDAR