BEGIN:VCALENDAR
VERSION:2.0
PRODID:-//wp-events-plugin.com//7.2.3.1//EN
TZID:Europe/Paris
X-WR-TIMEZONE:Europe/Paris
BEGIN:VEVENT
UID:1939@bananierbleu.fr
DTSTART;TZID=Europe/Paris:20161004T203000
DTEND;TZID=Europe/Paris:20161004T203000
DTSTAMP:20160913T114047Z
URL:https://bananierbleu.fr/concerts-test/ray-lema-quintet-2/
SUMMARY:Ray Lema quintet - New Morning - 4 Oct 16 20:30
DESCRIPTION:Ray Lema\, Etienne Mbappé\, Nicolas Viccaro\, Irving Acao &amp
 \; Sylvain Gontard
ATTACH;FMTTYPE=image/jpeg:https://bananierbleu.fr/wp-content/uploads/2016/
 09/14263987_10207590117610551_1723667763937919580_n.jpg
CATEGORIES:Concerts en France
LOCATION:New Morning\, 7-9 rue des Petites Ecuries\, Paris\, Île de France
 \, 75010\, IleDeFrance\, France
GEO:48.8732;2.35323
X-APPLE-STRUCTURED-LOCATION;VALUE=URI;X-ADDRESS=7-9 rue des Petites Ecuries
 \, Paris\, Île de France\, 75010\, IleDeFrance\, France;X-APPLE-RADIUS=10
 0;X-TITLE=New Morning:geo:48.8732,2.35323
END:VEVENT
BEGIN:VTIMEZONE
TZID:Europe/Paris
X-LIC-LOCATION:Europe/Paris
BEGIN:DAYLIGHT
DTSTART:20160327T030000
TZOFFSETFROM:+0100
TZOFFSETTO:+0200
TZNAME:CEST
END:DAYLIGHT
END:VTIMEZONE
END:VCALENDAR