BEGIN:VCALENDAR
VERSION:2.0
PRODID:-//wp-events-plugin.com//7.2.3.1//EN
TZID:Europe/Paris
X-WR-TIMEZONE:Europe/Paris
BEGIN:VEVENT
UID:3261@bananierbleu.fr
DTSTART;TZID=Europe/Paris:20220203T200000
DTEND;TZID=Europe/Paris:20220203T233000
DTSTAMP:20220113T110817Z
URL:https://bananierbleu.fr/concerts-test/release-party-big-in-jazz-collec
 tive/
SUMMARY:Release Party - BIG IN JAZZ COLLECTIVE - New Morning - 3 Fév 22 20
 :00
DESCRIPTION:Le Big In Jazz Festival et le Baiser Salé Jazz Club “Hors le
 s murs” présentent\nLE BIG IN JAZZ COLLECTIVE\n\nLine up : MAHER BEAURO
 Y piano - JOWEE OMICIL sax - LUDOVIC LOUIS trompette - RALPH LAVITAL guita
 re - YANN NÉGRIT guitare - STÉPHANE CASTRY basse - TILO BERTHOLO batteri
 e - SONNY TROUPÉ batterie\n\nRéunis par le Big in Jazz Festival en août
  2020\, ce collectif all-stars sortait en juillet dernier l’album “Glo
 bal”\, un disque fabuleux qui puise dans le patrimoine musical antillais
  pour en faire éclore de nouvelles fleurs.\nUne génération de talentueu
 x ambassadeurs de la Martinique\, de la Guadeloupe et d’Haiti\, capable 
 de projeter un nouveau regard\, sans limites d’horizon\, sur un patrimoi
 ne qui ne demande qu’à être rendu à la vie. Passant du funk au reggae
 \, du rock aux groove caribéen\, flirtant toujours avec le jazz et la dan
 se en faisant scintiller leurs différences et leurs accents dans une magn
 ifique et profonde unité.\n\nLe Big In Jazz Collective est le reflet auth
 entique de la création du jazz caribéen d’aujourd’hui !\n\nLa presse
  en parle :\nMartinique la 1ère : “Un concert de restituions inoubliabl
 e !”\nFrance Inter : “Un ensemble innovant et exceptionnel !”\nJazz 
 News : “Ultramarin\, frais et ennivrant !”\nRolling Stone : Let’s gr
 oove tonight !”\nJazz Magazine : “Avec des artistes inspirés et ouver
 ts\, un patrimoine peut se réinventer !”
ATTACH;FMTTYPE=image/jpeg:https://bananierbleu.fr/wp-content/uploads/2022/
 01/Big-In-Jazz-Collective.jpg
CATEGORIES:Concerts en France
LOCATION:New Morning\, 7-9 rue des Petites Ecuries\, Paris\, Île de France
 \, 75010\, IleDeFrance\, France
GEO:48.8732;2.35323
X-APPLE-STRUCTURED-LOCATION;VALUE=URI;X-ADDRESS=7-9 rue des Petites Ecuries
 \, Paris\, Île de France\, 75010\, IleDeFrance\, France;X-APPLE-RADIUS=10
 0;X-TITLE=New Morning:geo:48.8732,2.35323
END:VEVENT
BEGIN:VTIMEZONE
TZID:Europe/Paris
X-LIC-LOCATION:Europe/Paris
BEGIN:STANDARD
DTSTART:20211031T020000
TZOFFSETFROM:+0200
TZOFFSETTO:+0100
TZNAME:CET
END:STANDARD
END:VTIMEZONE
END:VCALENDAR