BEGIN:VCALENDAR
VERSION:2.0
PRODID:-//wp-events-plugin.com//7.2.3.1//EN
TZID:Europe/Paris
X-WR-TIMEZONE:Europe/Paris
BEGIN:VEVENT
UID:8@bananierbleu.fr
DTSTART;TZID=Europe/Paris:20111031T200000
DTEND;TZID=Europe/Paris:20111031T220000
DTSTAMP:20120103T133829Z
URL:https://bananierbleu.fr/concerts-test/roberto-fonseca/
SUMMARY:Roberto Fonseca - LaKaza - 31 Oct 11 20:00
DESCRIPTION:Ce jeune pianiste cubain de 36 ans nous fera l'honneur de sa pr
 ésence pour Un concert unique avec son quintet.
CATEGORIES:Concerts en Guadeloupe
LOCATION:LaKaza\, rue Thomas Edison\, Baie-Mahault\, Guadeloupe\, 97122\, G
 uadeloupe\, France
GEO:16.253401;-61.565601
X-APPLE-STRUCTURED-LOCATION;VALUE=URI;X-ADDRESS=rue Thomas Edison\, Baie-Ma
 hault\, Guadeloupe\, 97122\, Guadeloupe\, France;X-APPLE-RADIUS=100;X-TITL
 E=LaKaza:geo:16.253401,-61.565601
END:VEVENT
BEGIN:VTIMEZONE
TZID:Europe/Paris
X-LIC-LOCATION:Europe/Paris
BEGIN:STANDARD
DTSTART:20111030T020000
TZOFFSETFROM:+0200
TZOFFSETTO:+0100
TZNAME:CET
END:STANDARD
END:VTIMEZONE
END:VCALENDAR