BEGIN:VCALENDAR
VERSION:2.0
PRODID:-//wp-events-plugin.com//7.2.3.1//EN
TZID:Europe/Paris
X-WR-TIMEZONE:Europe/Paris
BEGIN:VEVENT
UID:4096@bananierbleu.fr
DTSTART;TZID=Europe/Paris:20260312T210000
DTEND;TZID=Europe/Paris:20260312T210000
DTSTAMP:20260308T102035Z
URL:https://bananierbleu.fr/concerts-test/rodolphe-lauretta-kreolia-ii/
SUMMARY:Rodolphe Lauretta (Kreolia II) - le Baiser Salé - 12 Mar 26 21:00
DESCRIPTION:\n 	Personnel : Dylan Choisi (batterie\, samples)\, Eli Frot (p
 iano\, synthés)\, Nicolas Bauer (basse\, moog)\, Olivier Laisney (trompet
 te)\, Rodolphe Lauretta (saxophone\, flûte)\n 	Présentation : Rodolphe L
 auretta présente "Kreolia II"\, un projet mêlant jazz créole\, soca\, m
 azurka et grooves modernes. Ce concert en avant-première explore de nouve
 aux territoires musicaux\, fusionnant traditions caribéennes et jazz cont
 emporain\, dans une esthétique qualifiée de "futur-jazz créole".\n
ATTACH;FMTTYPE=image/jpeg:https://bananierbleu.fr/wp-content/uploads/2026/
 03/rodolphe-lauretta-kreolia-tickets_503426_3983461_222x222.jpg
CATEGORIES:Concerts en France
LOCATION:le Baiser Salé\, 58\, rue des Lombards\, Paris\, Île de France\,
  75001\, IleDeFrance\, France
GEO:48.8598;2.34791
X-APPLE-STRUCTURED-LOCATION;VALUE=URI;X-ADDRESS=58\, rue des Lombards\, Par
 is\, Île de France\, 75001\, IleDeFrance\, France;X-APPLE-RADIUS=100;X-TI
 TLE=le Baiser Salé:geo:48.8598,2.34791
END:VEVENT
BEGIN:VTIMEZONE
TZID:Europe/Paris
X-LIC-LOCATION:Europe/Paris
BEGIN:STANDARD
DTSTART:20251026T020000
TZOFFSETFROM:+0200
TZOFFSETTO:+0100
TZNAME:CET
END:STANDARD
END:VTIMEZONE
END:VCALENDAR