BEGIN:VCALENDAR
VERSION:2.0
PRODID:-//wp-events-plugin.com//7.2.3.1//EN
TZID:Europe/Paris
X-WR-TIMEZONE:Europe/Paris
BEGIN:VEVENT
UID:254@bananierbleu.fr
DTSTART;TZID=Europe/Paris:20120704T203000
DTEND;TZID=Europe/Paris:20120704T223000
DTSTAMP:20120624T154651Z
URL:https://bananierbleu.fr/concerts-test/roland-tchakounte/
SUMMARY:Roland Tchakounté -  - 4 Juil 12 20:30
DESCRIPTION:Roland Tchakounte – guitare\, voix \; Mathias Bernheim – pe
 rcussions \; Mick Ravassat - batterie\nPour des raisons évidentes qui tie
 nnent au statut de mal aimé propre au Premier Continent\, l'esprit du blu
 es a trouvé un écho particulièrement fort en Afrique où vie rime trop 
 souvent avec tragédie.« Ce que je chante dans mes chansons relève de la
  même histoire que celle des pionniers du blues. J'écris et je chante po
 ur noyer le sentiment d'amertume que m'inspire l'existence »\, reconnaît
  Roland. Son nouvel album\, «Blues Menessen»\, ne dit pas autre chose. E
 n y exorcisant ses frustrations\, Tchakounté marche sur les traces des pr
 emiers bluesmen qui soignaient leur vague à l'âme en le mettant en musiq
 ue\, forts de la certitude que seul le blues est à même de guérir du bl
 ues.\n“Né au Cameroun\, loin des champs de coton qui ont peaufiné le s
 tyle de ses lointains ancêtres\, Roland Tchakounté fait partie de ces mu
 siciens de l’âme qui\, à partir de leur énergie ont su transcender le
 s dictats et les règles en matière de musique. Sa musique est une synth
 èse  réussie du Mississippi blues et de chant profond d’Afrique\, bien
  mise en valeur par les sonorités de sa langue maternelle « le Bamilék
 é». La musique de Roland\, fruit d’une alchimie comparable\, est un cr
 i sacré né d’un profond désir de croire en l’Homme\, en dépit de t
 out. En luttant avec ses textes contre l’amertume qui le maintient souve
 nt éveillé la nuit\, il nous apporte la preuve qu’il est\, par essence
 \, un bluesman”. Sébastien Danchin
CATEGORIES:Concerts en France
LOCATION:\, \, 
X-APPLE-STRUCTURED-LOCATION;VALUE=URI;X-ADDRESS=\, ;X-APPLE-RADIUS=100;X-TI
 TLE=:geo:0,0
END:VEVENT
BEGIN:VTIMEZONE
TZID:Europe/Paris
X-LIC-LOCATION:Europe/Paris
BEGIN:DAYLIGHT
DTSTART:20120325T030000
TZOFFSETFROM:+0100
TZOFFSETTO:+0200
TZNAME:CEST
END:DAYLIGHT
END:VTIMEZONE
END:VCALENDAR