BEGIN:VCALENDAR
VERSION:2.0
PRODID:-//wp-events-plugin.com//7.2.3.1//EN
TZID:Europe/Paris
X-WR-TIMEZONE:Europe/Paris
BEGIN:VEVENT
UID:630@bananierbleu.fr
DTSTART;TZID=Europe/Paris:20131015T193000
DTEND;TZID=Europe/Paris:20131015T193000
DTSTAMP:20130924T154350Z
URL:https://bananierbleu.fr/concerts-test/rony-olanor-2/
SUMMARY:Rony Olanor - le Baiser Salé - 15 Oct 13 19:30
DESCRIPTION:"Le Jazz De Demain" - Résidence - Jazz Fusion\nRony OLANOR\nOu
 riel Ellert basse\, Martin Wangermée batterie\,\nRony Olanor piano/clavie
 r\nTout au long de sa résidence\, le jeune et talentueux Rony Olanor (pia
 niste/claviériste) invite sur scène deux de ses complices. Ils parcouren
 t un répertoire coloré\, riche et varié où le(s) jazz(s) s’emmêle(n
 t). Des surprises sont prévues alors un conseil : prêtez l’oreille à 
 chaque concert !
CATEGORIES:Concerts en France
LOCATION:le Baiser Salé\, 58\, rue des Lombards\, Paris\, Île de France\,
  75001\, IleDeFrance\, France
GEO:48.8598;2.34791
X-APPLE-STRUCTURED-LOCATION;VALUE=URI;X-ADDRESS=58\, rue des Lombards\, Par
 is\, Île de France\, 75001\, IleDeFrance\, France;X-APPLE-RADIUS=100;X-TI
 TLE=le Baiser Salé:geo:48.8598,2.34791
END:VEVENT
BEGIN:VTIMEZONE
TZID:Europe/Paris
X-LIC-LOCATION:Europe/Paris
BEGIN:DAYLIGHT
DTSTART:20130331T030000
TZOFFSETFROM:+0100
TZOFFSETTO:+0200
TZNAME:CEST
END:DAYLIGHT
END:VTIMEZONE
END:VCALENDAR