BEGIN:VCALENDAR
VERSION:2.0
PRODID:-//wp-events-plugin.com//7.2.3.1//EN
TZID:Europe/Paris
X-WR-TIMEZONE:Europe/Paris
BEGIN:VEVENT
UID:655@bananierbleu.fr
DTSTART;TZID=Europe/Paris:20131119T193000
DTEND;TZID=Europe/Paris:20131119T193000
DTSTAMP:20131024T195114Z
URL:https://bananierbleu.fr/concerts-test/rony-olanor-jazz-reggae-dancehal
 l/
SUMMARY:Rony Olanor - jazz & reggae dancehall - le Baiser Salé - 19 Nov 13
  19:30
DESCRIPTION:"Le Jazz De Demain" - Résidence - Jazz & Reggae Dancehall\nRon
 y OLANOR autour de "Tandem"\nRony Olanor piano/claviers/lead\, Laurent-Emm
 anuel "Tilo" Bertholo batterie\, Stéphane Castry bass\, Josiah Woodson tr
 ompette / bugle /guitare + Guest : Célia Wa flûte/voix\nRony Olanor nous
  présente toujours de nouvelles expériences musicales. Mais cette fois-c
 i\, il va plus loin. Pour la 1ère fois\, il nous présente un projet auda
 cieux mélangeant le reggae-dancehall au jazz. Il est certain\, que cette 
 soirée marquera les débuts d'un projet à suivre de très près. Sa prom
 esse est tenue\, alors prêtez l’oreille à chaque concert ! 
CATEGORIES:Concerts en France
LOCATION:le Baiser Salé\, 58\, rue des Lombards\, Paris\, Île de France\,
  75001\, IleDeFrance\, France
GEO:48.8598;2.34791
X-APPLE-STRUCTURED-LOCATION;VALUE=URI;X-ADDRESS=58\, rue des Lombards\, Par
 is\, Île de France\, 75001\, IleDeFrance\, France;X-APPLE-RADIUS=100;X-TI
 TLE=le Baiser Salé:geo:48.8598,2.34791
END:VEVENT
BEGIN:VTIMEZONE
TZID:Europe/Paris
X-LIC-LOCATION:Europe/Paris
BEGIN:STANDARD
DTSTART:20131027T020000
TZOFFSETFROM:+0200
TZOFFSETTO:+0100
TZNAME:CET
END:STANDARD
END:VTIMEZONE
END:VCALENDAR