BEGIN:VCALENDAR
VERSION:2.0
PRODID:-//wp-events-plugin.com//7.2.3.1//EN
TZID:Europe/Paris
X-WR-TIMEZONE:Europe/Paris
BEGIN:VEVENT
UID:2411@bananierbleu.fr
DTSTART;TZID=Europe/Paris:20171019T213000
DTEND;TZID=Europe/Paris:20171019T213000
DTSTAMP:20171015T104315Z
URL:https://bananierbleu.fr/concerts-test/rony-olanor-presente-tandem/
SUMMARY:Rony Olanor présente Tandem - le Baiser Salé - 19 Oct 17 21:30
DESCRIPTION:Mené et initié par Rony Olanor\, le projet «&nbsp\;Tandem&nb
 sp\;»\, se veut fédérateur. La musique de&nbsp\;«&nbsp\;Tandem&nbsp\;
 »&nbsp\;est un de ces&nbsp\;«&nbsp\;ponts&nbsp\;»&nbsp\;invisibles mais
  audibles\, alliant la culture du jazz et celle du Reggae Dance Hall. Il y
  persiste une influence détectable des scènes&nbsp\;électro-pop et Dub-
 step actuel dans le projet constitué&nbsp\;de compositions originales\, d
 e patchworks musicaux.&nbsp\;Créer de la communication\, du partage…&nb
 sp\;entre adeptes du&nbsp\;«&nbsp\;jazz&nbsp\;»&nbsp\;et non-adeptes \; 
 voici le rôle de cette formation.
ATTACH;FMTTYPE=image/jpeg:https://bananierbleu.fr/wp-content/uploads/2017/
 10/860j.jpeg
CATEGORIES:Concerts en France
LOCATION:le Baiser Salé\, 58\, rue des Lombards\, Paris\, Île de France\,
  75001\, IleDeFrance\, France
GEO:48.8598;2.34791
X-APPLE-STRUCTURED-LOCATION;VALUE=URI;X-ADDRESS=58\, rue des Lombards\, Par
 is\, Île de France\, 75001\, IleDeFrance\, France;X-APPLE-RADIUS=100;X-TI
 TLE=le Baiser Salé:geo:48.8598,2.34791
END:VEVENT
BEGIN:VTIMEZONE
TZID:Europe/Paris
X-LIC-LOCATION:Europe/Paris
BEGIN:DAYLIGHT
DTSTART:20170326T030000
TZOFFSETFROM:+0100
TZOFFSETTO:+0200
TZNAME:CEST
END:DAYLIGHT
END:VTIMEZONE
END:VCALENDAR